BEGIN:VCALENDAR
VERSION:2.0
PRODID:City of Livermore website Calendar Creator
METHOD:PUBLISH
BEGIN:VEVENT
DTSTAMP:20260205T085905
DTSTART:20260225T190000
DTEND:20260225T210000
SUMMARY:Vision Zero Community Outreach Meeting
DESCRIPTION:<p>See the attached flyers for more information:</p><ul>    <li><a href="https://livermore3.prod-as.govaccess.org/home/showpublisheddocument/13569/639056354596630000" target="_blank" rel="noopener">English</a></li>    <li><a href="https://livermore3.prod-as.govaccess.org/home/showpublisheddocument/13571/639056354935100000" target="_blank" rel="noopener">Español</a></li></ul>
X-ALT-DESC;FMTTYPE=text/html:<p>See the attached flyers for more information:</p><ul>    <li><a href="https://livermore3.prod-as.govaccess.org/home/showpublisheddocument/13569/639056354596630000" target="_blank" rel="noopener">English</a></li>    <li><a href="https://livermore3.prod-as.govaccess.org/home/showpublisheddocument/13571/639056354935100000" target="_blank" rel="noopener">Español</a></li></ul>
LOCATION:Civic Center Meeting Hall\, 1016 S. Livermore Avenue Livermore\, California 94550
CLASS:PUBLIC
END:VEVENT
END:VCALENDAR
