BEGIN:VCALENDAR
VERSION:2.0
PRODID:City of Livermore website Calendar Creator
METHOD:PUBLISH
BEGIN:VEVENT
DTSTAMP:20211118T134917
DTSTART:20211211T000000
DTEND:20211211T235900
SUMMARY:Shop with a Cop
DESCRIPTION:<p>Every year, during the holiday season, Livermore Police Department and Livermore Valley Joint Unified School District team up to host their annual “Shop with a Cop” event. “Shop with a Cop” allows LPD officers to “adopt” an LVJUSD student in need and take him/her on a shopping spree at Walmart, to buy holiday presents for themselves or their families.&nbsp; This year’s event will take place on Saturday, December 11<sup>th</sup> at Walmart of Livermore.&nbsp; &nbsp;Funding for this event is made possible through contributions received from LPD officers and staff during “No Shave November” (LPD) or through private donations made by citizens.&nbsp; Donations can be made by visiting <a href="http://gofund.me/341fa3c1" target="_blank">https://gofund.me/341fa3c1</a> or if would like to volunteer, please contact Officer Rich Hill at <a href="mailto:&#114;&#104;&#105;&#108;&#108;&#64;&#99;&#105;&#116;&#121;&#111;&#102;&#108;&#105;&#118;&#101;&#114;&#109;&#111;&#114;&#101;&#46;&#110;&#101;&#116;">rhill@cityoflivermore.net</a>, for more information.</p>
X-ALT-DESC;FMTTYPE=text/html:<p>Every year, during the holiday season, Livermore Police Department and Livermore Valley Joint Unified School District team up to host their annual “Shop with a Cop” event. “Shop with a Cop” allows LPD officers to “adopt” an LVJUSD student in need and take him/her on a shopping spree at Walmart, to buy holiday presents for themselves or their families.&nbsp; This year’s event will take place on Saturday, December 11<sup>th</sup> at Walmart of Livermore.&nbsp; &nbsp;Funding for this event is made possible through contributions received from LPD officers and staff during “No Shave November” (LPD) or through private donations made by citizens.&nbsp; Donations can be made by visiting <a href="http://gofund.me/341fa3c1" target="_blank">https://gofund.me/341fa3c1</a> or if would like to volunteer, please contact Officer Rich Hill at <a href="mailto:&#114;&#104;&#105;&#108;&#108;&#64;&#99;&#105;&#116;&#121;&#111;&#102;&#108;&#105;&#118;&#101;&#114;&#109;&#111;&#114;&#101;&#46;&#110;&#101;&#116;">rhill@cityoflivermore.net</a>, for more information.</p>
LOCATION:
CLASS:PUBLIC
END:VEVENT
END:VCALENDAR
