BEGIN:VCALENDAR
VERSION:2.0
PRODID:City of Livermore website Calendar Creator
METHOD:PUBLISH
BEGIN:VEVENT
DTSTAMP:20211110T103406
DTSTART:20211202T190000
DTEND:20211202T210000
SUMMARY:Book Club: We're Talkin' Books!
DESCRIPTION:Upcoming Book Club Pick:&nbsp;<br><strong><em><i><a href="https://livermorelibrary.bibliocommons.com/v2/record/S175C1664391" target="_self">Meet Me at the Museum</a></i> </em>by Anne Youngson</strong><br><br>"In Denmark, Professor Anders Larsen has lost his wife and his hopes for the future. On an isolated English farm, Tina Hopgood is trapped in a life she doesn't remember choosing. Brought together by a shared fascination with the Tollund Man, subject of Seamus Heaney's famous poem, they begin writing letters to one another. From their vastly different worlds, they find they have more in common than they could have imagined, and an unexpected friendship blooms. When Tina's letters stop coming, Anders is thrown into despair. How far are they willing to go to write a new story for themselves?" --adapted from book jacket<br><br>To join the&nbsp;<a href="https://sites.google.com/view/were-talkin-books/home" target="_blank">We’re Talkin’ Books! Club</a>&nbsp;group, contact Blanche Angelo at beangelo@livermore.lib.ca.us or call 925-373-5574.<br>More Info:&nbsp;<a href="http://www.livermorelibrary.net/digital-library/books-more/book-clubs" target="_blank">Book Clubs at the Livermore Public Library</a><br><br>When: Thursday, December 2, 2021<br>Time: 7:00 PM<br>Where: Online via Zoom<br>Suggested Audience: Adults<br>Contact: Blanche Angelo - 925-373-5574
X-ALT-DESC;FMTTYPE=text/html:Upcoming Book Club Pick:&nbsp;<br><strong><em><i><a href="https://livermorelibrary.bibliocommons.com/v2/record/S175C1664391" target="_self">Meet Me at the Museum</a></i> </em>by Anne Youngson</strong><br><br>"In Denmark, Professor Anders Larsen has lost his wife and his hopes for the future. On an isolated English farm, Tina Hopgood is trapped in a life she doesn't remember choosing. Brought together by a shared fascination with the Tollund Man, subject of Seamus Heaney's famous poem, they begin writing letters to one another. From their vastly different worlds, they find they have more in common than they could have imagined, and an unexpected friendship blooms. When Tina's letters stop coming, Anders is thrown into despair. How far are they willing to go to write a new story for themselves?" --adapted from book jacket<br><br>To join the&nbsp;<a href="https://sites.google.com/view/were-talkin-books/home" target="_blank">We’re Talkin’ Books! Club</a>&nbsp;group, contact Blanche Angelo at beangelo@livermore.lib.ca.us or call 925-373-5574.<br>More Info:&nbsp;<a href="http://www.livermorelibrary.net/digital-library/books-more/book-clubs" target="_blank">Book Clubs at the Livermore Public Library</a><br><br>When: Thursday, December 2, 2021<br>Time: 7:00 PM<br>Where: Online via Zoom<br>Suggested Audience: Adults<br>Contact: Blanche Angelo - 925-373-5574
LOCATION:
CLASS:PUBLIC
END:VEVENT
END:VCALENDAR
