BEGIN:VCALENDAR
VERSION:2.0
PRODID:City of Livermore website Calendar Creator
METHOD:PUBLISH
BEGIN:VEVENT
DTSTAMP:20211108T094008
DTSTART:20211115T170000
DTEND:20211115T220000
SUMMARY:Virtual City Council Special Meeting - Closed Session
DESCRIPTION:View meeting details on the&nbsp;<a href="https://www.cityoflivermore.net/government/city-clerk/city-council-meeting-calendar-agendas">City Meeting Agendas and Calendars</a>&nbsp;page.
X-ALT-DESC;FMTTYPE=text/html:View meeting details on the&nbsp;<a href="https://www.cityoflivermore.net/government/city-clerk/city-council-meeting-calendar-agendas">City Meeting Agendas and Calendars</a>&nbsp;page.
LOCATION:
CLASS:PUBLIC
END:VEVENT
END:VCALENDAR
