BEGIN:VCALENDAR
VERSION:2.0
PRODID:City of Livermore website Calendar Creator
METHOD:PUBLISH
BEGIN:VEVENT
DTSTAMP:20211101T182123
DTSTART:20211108T190000
DTEND:20211108T210000
SUMMARY:Science Fiction Book Club via Zoom
DESCRIPTION:<p>Upcoming Book Club Pick:<strong><br><em><a href="https://livermorelibrary.bibliocommons.com/v2/record/S175C1716937" target="_blank">A Psalm for the Wild-built</a></em> by Becky Chambers</strong></p><p>It's been centuries since the robots of Panga gained self-awareness and laid down their tools; centuries since they wandered, en masse, into the wilderness, never to be seen again; centuries since they faded into myth and urban legend. One day, the life of a tea monk is upended by the arrival of a robot, there to honor the old promise of checking in. The robot cannot go back until the question of "what do people need?" is answered. But the answer to that question depends on who you ask, and how. They're going to need to ask it a lot. Becky Chambers's new series asks: in a world where people have what they want, does having more matter?</p><p>To join the Science Fiction Book Club group, contact Blanche Angelo at&nbsp;<a href="mailto:beangelo@livermore.lib.ca.us" data-mce-href="mailto:&#98;&#101;&#97;&#110;&#103;&#101;&#108;&#111;&#64;&#108;&#105;&#118;&#101;&#114;&#109;&#111;&#114;&#101;&#46;&#108;&#105;&#98;&#46;&#99;&#97;&#46;&#117;&#115;">beangelo@livermore.lib.ca.us</a>&nbsp;or call 1-925-373-5574.</p><p>When: Monday, November&nbsp;8, 2021<br>Time: 7:00 PM<br>Where: Online via Zoom<br>Suggested Audience: Adults</p>
X-ALT-DESC;FMTTYPE=text/html:<p>Upcoming Book Club Pick:<strong><br><em><a href="https://livermorelibrary.bibliocommons.com/v2/record/S175C1716937" target="_blank">A Psalm for the Wild-built</a></em> by Becky Chambers</strong></p><p>It's been centuries since the robots of Panga gained self-awareness and laid down their tools; centuries since they wandered, en masse, into the wilderness, never to be seen again; centuries since they faded into myth and urban legend. One day, the life of a tea monk is upended by the arrival of a robot, there to honor the old promise of checking in. The robot cannot go back until the question of "what do people need?" is answered. But the answer to that question depends on who you ask, and how. They're going to need to ask it a lot. Becky Chambers's new series asks: in a world where people have what they want, does having more matter?</p><p>To join the Science Fiction Book Club group, contact Blanche Angelo at&nbsp;<a href="mailto:beangelo@livermore.lib.ca.us" data-mce-href="mailto:&#98;&#101;&#97;&#110;&#103;&#101;&#108;&#111;&#64;&#108;&#105;&#118;&#101;&#114;&#109;&#111;&#114;&#101;&#46;&#108;&#105;&#98;&#46;&#99;&#97;&#46;&#117;&#115;">beangelo@livermore.lib.ca.us</a>&nbsp;or call 1-925-373-5574.</p><p>When: Monday, November&nbsp;8, 2021<br>Time: 7:00 PM<br>Where: Online via Zoom<br>Suggested Audience: Adults</p>
LOCATION:
CLASS:PUBLIC
END:VEVENT
END:VCALENDAR
