BEGIN:VCALENDAR
VERSION:2.0
PRODID:City of Livermore website Calendar Creator
METHOD:PUBLISH
BEGIN:VEVENT
DTSTAMP:20211015T173918
DTSTART:20211206T000000
DTEND:20211206T235900
SUMMARY:Take & Make Craft for Teens: Stress Balls
DESCRIPTION:Beginning on November 15, students in grades 6-12 are invited to come to any branch of the Livermore Public Library to collect a free Take &amp; Make Stress Balls craft kit for teens. One kit per teen, while supplies last. The kit will contain instructions and the specialized supplies necessary to complete the craft. Basic supplies (scissors, tape, markers, etc.) are to be provided by the participant.<br><br>For questions or more information, please call Librarian Caitlyn Lung at 925-373-5576.
X-ALT-DESC;FMTTYPE=text/html:Beginning on November 15, students in grades 6-12 are invited to come to any branch of the Livermore Public Library to collect a free Take &amp; Make Stress Balls craft kit for teens. One kit per teen, while supplies last. The kit will contain instructions and the specialized supplies necessary to complete the craft. Basic supplies (scissors, tape, markers, etc.) are to be provided by the participant.<br><br>For questions or more information, please call Librarian Caitlyn Lung at 925-373-5576.
LOCATION:
CLASS:PUBLIC
END:VEVENT
END:VCALENDAR
