BEGIN:VCALENDAR
VERSION:2.0
PRODID:City of Livermore website Calendar Creator
METHOD:PUBLISH
BEGIN:VEVENT
DTSTAMP:20210929T151405
DTSTART:20220221T000000
DTEND:20220221T235900
SUMMARY:City Offices Closed - Presidents' Day
DESCRIPTION:<div>City offices&nbsp;will be closed on Monday, February 21, 2022, for Presidents' Day.</div><div></div><div></div><div></div>
X-ALT-DESC;FMTTYPE=text/html:<div>City offices&nbsp;will be closed on Monday, February 21, 2022, for Presidents' Day.</div><div></div><div></div><div></div>
LOCATION:
CLASS:PUBLIC
END:VEVENT
END:VCALENDAR
