BEGIN:VCALENDAR
VERSION:2.0
PRODID:City of Livermore website Calendar Creator
METHOD:PUBLISH
BEGIN:VEVENT
DTSTAMP:20210922T174812
DTSTART:20211113T140000
DTEND:20211113T150000
SUMMARY:Poetry Reading, Q & A with Film Director Jeff M. Giordano and Star Charles Curtis Blackwell
DESCRIPTION:<p>Film director Jeff M. Giordano and star  of the documentary&nbsp;<em>The God Given Talent: The Creative Life of Charles Curtis Blackwell</em> will be in-person for a poetry reading, discussion, and Q &amp; A. This event will be held outside on the Civic Center Library’s patio.</p><p><em>The God Given Talent</em> is an award-winning independent documentary about Charles Curtis Blackwell, African American blind poet, painter, playwright, and teacher.&nbsp; The film takes viewers on an intimate journey into Blackwell’s past and present, from his challenging upbringing in both California and Mississippi, to his current creative life.&nbsp;&nbsp;</p><p>This event is sponsored by the Friends of the Livermore Public Library as part of the Library’s Authors and Arts Series.&nbsp;</p><p><label>When:&nbsp;&nbsp;</label>Saturday, November 13, 2021<br><label>Time:&nbsp;&nbsp;</label>2:00 p.m.<br><label>Where:&nbsp; Civic Center Library outdoor patio</label>, 1188 S. Livermore Avenue, Livermore, CA, 94550<br><label>Suggested Audience:&nbsp;&nbsp;</label>Adults, Teens<br><label>Contact:&nbsp;&nbsp;</label>Paul Sevilla&nbsp; 925-373-5505</p>
X-ALT-DESC;FMTTYPE=text/html:<p>Film director Jeff M. Giordano and star  of the documentary&nbsp;<em>The God Given Talent: The Creative Life of Charles Curtis Blackwell</em> will be in-person for a poetry reading, discussion, and Q &amp; A. This event will be held outside on the Civic Center Library’s patio.</p><p><em>The God Given Talent</em> is an award-winning independent documentary about Charles Curtis Blackwell, African American blind poet, painter, playwright, and teacher.&nbsp; The film takes viewers on an intimate journey into Blackwell’s past and present, from his challenging upbringing in both California and Mississippi, to his current creative life.&nbsp;&nbsp;</p><p>This event is sponsored by the Friends of the Livermore Public Library as part of the Library’s Authors and Arts Series.&nbsp;</p><p><label>When:&nbsp;&nbsp;</label>Saturday, November 13, 2021<br><label>Time:&nbsp;&nbsp;</label>2:00 p.m.<br><label>Where:&nbsp; Civic Center Library outdoor patio</label>, 1188 S. Livermore Avenue, Livermore, CA, 94550<br><label>Suggested Audience:&nbsp;&nbsp;</label>Adults, Teens<br><label>Contact:&nbsp;&nbsp;</label>Paul Sevilla&nbsp; 925-373-5505</p>
LOCATION:Civic Center Library\, 1188 S. Livermore Ave Livermore\, California 94550
CLASS:PUBLIC
END:VEVENT
END:VCALENDAR
