BEGIN:VCALENDAR
VERSION:2.0
PRODID:City of Livermore website Calendar Creator
METHOD:PUBLISH
BEGIN:VEVENT
DTSTAMP:20210930T144453
DTSTART:20211018T190000
DTEND:20211018T210000
SUMMARY:Science Fiction Book Club via Zoom
DESCRIPTION:<p><strong></strong>Upcoming Book Club Pick:<strong> <br><em>We Are Legion (We Are Bob)</em>&nbsp;by Dennis E. Taylor</strong></p><p>Newly retired Bob Johansson is killed while crossing the street. Bob wakes up a century later to find that corpsicles have been declared to be without rights, and he is now the property of the state. He has been uploaded into computer hardware and is slated to be the controlling AI in an interstellar probe looking for habitable planets.</p><p>To join the Science Fiction Book Club group, contact Blanche Angelo at&nbsp;<a href="mailto:beangelo@livermore.lib.ca.us" data-mce-href="mailto:&#98;&#101;&#97;&#110;&#103;&#101;&#108;&#111;&#64;&#108;&#105;&#118;&#101;&#114;&#109;&#111;&#114;&#101;&#46;&#108;&#105;&#98;&#46;&#99;&#97;&#46;&#117;&#115;">beangelo@livermore.lib.ca.us</a>&nbsp;or call 925-373-5574.</p><p>When: Monday, October 18, 2021<br>Time: 7:00 PM<br>Where: Online via Zoom<br>Suggested Audience: Adults<br>Contact: Blanche Angelo </p>
X-ALT-DESC;FMTTYPE=text/html:<p><strong></strong>Upcoming Book Club Pick:<strong> <br><em>We Are Legion (We Are Bob)</em>&nbsp;by Dennis E. Taylor</strong></p><p>Newly retired Bob Johansson is killed while crossing the street. Bob wakes up a century later to find that corpsicles have been declared to be without rights, and he is now the property of the state. He has been uploaded into computer hardware and is slated to be the controlling AI in an interstellar probe looking for habitable planets.</p><p>To join the Science Fiction Book Club group, contact Blanche Angelo at&nbsp;<a href="mailto:beangelo@livermore.lib.ca.us" data-mce-href="mailto:&#98;&#101;&#97;&#110;&#103;&#101;&#108;&#111;&#64;&#108;&#105;&#118;&#101;&#114;&#109;&#111;&#114;&#101;&#46;&#108;&#105;&#98;&#46;&#99;&#97;&#46;&#117;&#115;">beangelo@livermore.lib.ca.us</a>&nbsp;or call 925-373-5574.</p><p>When: Monday, October 18, 2021<br>Time: 7:00 PM<br>Where: Online via Zoom<br>Suggested Audience: Adults<br>Contact: Blanche Angelo </p>
LOCATION:
CLASS:PUBLIC
END:VEVENT
END:VCALENDAR
