BEGIN:VCALENDAR
VERSION:2.0
PRODID:City of Livermore website Calendar Creator
METHOD:PUBLISH
BEGIN:VEVENT
DTSTAMP:20210830T131840
DTSTART:20211113T140000
DTEND:20211113T153000
SUMMARY:Spanish Language Conversation Group
DESCRIPTION:¡Hola estudiantes de español! Join the Spanish Language Conversation Group to practice your Spanish conversation skills. All levels welcome. Meets the 2nd Saturday of each month via Zoom. To join, contact&nbsp;Jacquelyn Martinez at&nbsp;jmartinez@livermore.lib.ca.us or call 925-373-5551.
X-ALT-DESC;FMTTYPE=text/html:¡Hola estudiantes de español! Join the Spanish Language Conversation Group to practice your Spanish conversation skills. All levels welcome. Meets the 2nd Saturday of each month via Zoom. To join, contact&nbsp;Jacquelyn Martinez at&nbsp;jmartinez@livermore.lib.ca.us or call 925-373-5551.
LOCATION:Online via Zoom\, 
CLASS:PUBLIC
END:VEVENT
END:VCALENDAR
