BEGIN:VCALENDAR
VERSION:2.0
PRODID:City of Livermore website Calendar Creator
METHOD:PUBLISH
BEGIN:VEVENT
DTSTAMP:20211019T175958
DTSTART:20211125T000000
DTEND:20211125T235900
SUMMARY:Library Closed Thanksgiving
DESCRIPTION:The Library will be closed on Thursday, November 25, 2021, for Thanksgiving Day.
X-ALT-DESC;FMTTYPE=text/html:The Library will be closed on Thursday, November 25, 2021, for Thanksgiving Day.
LOCATION:
CLASS:PUBLIC
END:VEVENT
END:VCALENDAR
