BEGIN:VCALENDAR
VERSION:2.0
PRODID:City of Livermore website Calendar Creator
METHOD:PUBLISH
BEGIN:VEVENT
DTSTAMP:20220112T173359
DTSTART:20220212T140000
DTEND:20220212T153000
SUMMARY:Spanish Language Conversation Group
DESCRIPTION:¡Hola estudiantes de español! Join the Spanish Language Conversation Group to practice your Spanish conversation skills. All levels welcome. Meets the 2nd Saturday of each month via Zoom. To join, contact&nbsp;Jacquelyn Martinez at&nbsp;<a href="mailto:&#106;&#109;&#97;&#114;&#116;&#105;&#110;&#101;&#122;&#64;&#108;&#105;&#118;&#101;&#114;&#109;&#111;&#114;&#101;&#46;&#108;&#105;&#98;&#46;&#99;&#97;&#46;&#117;&#115;">jmartinez@livermore.lib.ca.us</a> or call 925-373-5551.
X-ALT-DESC;FMTTYPE=text/html:¡Hola estudiantes de español! Join the Spanish Language Conversation Group to practice your Spanish conversation skills. All levels welcome. Meets the 2nd Saturday of each month via Zoom. To join, contact&nbsp;Jacquelyn Martinez at&nbsp;<a href="mailto:&#106;&#109;&#97;&#114;&#116;&#105;&#110;&#101;&#122;&#64;&#108;&#105;&#118;&#101;&#114;&#109;&#111;&#114;&#101;&#46;&#108;&#105;&#98;&#46;&#99;&#97;&#46;&#117;&#115;">jmartinez@livermore.lib.ca.us</a> or call 925-373-5551.
LOCATION:Online via Zoom\, 
CLASS:PUBLIC
END:VEVENT
END:VCALENDAR
