BEGIN:VCALENDAR
VERSION:2.0
PRODID:City of Livermore website Calendar Creator
METHOD:PUBLISH
BEGIN:VEVENT
DTSTAMP:20220111T112625
DTSTART:20220208T190000
DTEND:20220208T235900
SUMMARY:In Conversation: Black Authors on the Power of Storytelling
DESCRIPTION:Join award-winning author Tina Jones Williams for a panel conversation on the power of storytelling, featuring local authors Dera R. Williams, Geraldine Cynthia Forté, Kevin E. Eastman, and R.C. Barnes. Use this link to access the live presentation: <a href="https://us02web.zoom.us/j/87826493999" target="_blank">https://us02web.zoom.us/j/87826493999</a>.
X-ALT-DESC;FMTTYPE=text/html:Join award-winning author Tina Jones Williams for a panel conversation on the power of storytelling, featuring local authors Dera R. Williams, Geraldine Cynthia Forté, Kevin E. Eastman, and R.C. Barnes. Use this link to access the live presentation: <a href="https://us02web.zoom.us/j/87826493999" target="_blank">https://us02web.zoom.us/j/87826493999</a>.
LOCATION:
CLASS:PUBLIC
END:VEVENT
END:VCALENDAR
