BEGIN:VCALENDAR
VERSION:2.0
PRODID:City of Livermore website Calendar Creator
METHOD:PUBLISH
BEGIN:VEVENT
DTSTAMP:20260302T125145
DTSTART:20260319T173000
DTEND:20260319T183000
SUMMARY:AB481 Military Equipment Public Meeting
DESCRIPTION:Join us on Thursday, March 19, for a community meeting regarding Livermore Police’s funding, acquisition and use of military equipment in accordance with Assembly Bill 481.<br>&nbsp;<br>AB 481 (codified as 7070-7075 of the Government Code) is a law that requires California law enforcement agencies to author an annual military equipment report and hold a community meeting to allow the public to ask questions and discuss the report.<br>&nbsp;&nbsp;<br>The meeting will be held Thursday, March 19, inside the Community Room at the Livermore Police Department (1110 S. Livermore Avenue) from 5:30 p.m. – 6:30 p.m.&nbsp;&nbsp;<br>&nbsp;<br>If you have any questions, comments, or concerns before the meeting, please leave them through the link on our Transparency Page <a href="https://police.livermoreca.gov/about-us/transparency-and-information/-fsiteid-4#!/" target="_blank" rel="noopener">here</a>.<br><div></div>
X-ALT-DESC;FMTTYPE=text/html:Join us on Thursday, March 19, for a community meeting regarding Livermore Police’s funding, acquisition and use of military equipment in accordance with Assembly Bill 481.<br>&nbsp;<br>AB 481 (codified as 7070-7075 of the Government Code) is a law that requires California law enforcement agencies to author an annual military equipment report and hold a community meeting to allow the public to ask questions and discuss the report.<br>&nbsp;&nbsp;<br>The meeting will be held Thursday, March 19, inside the Community Room at the Livermore Police Department (1110 S. Livermore Avenue) from 5:30 p.m. – 6:30 p.m.&nbsp;&nbsp;<br>&nbsp;<br>If you have any questions, comments, or concerns before the meeting, please leave them through the link on our Transparency Page <a href="https://police.livermoreca.gov/about-us/transparency-and-information/-fsiteid-4#!/" target="_blank" rel="noopener">here</a>.<br><div></div>
LOCATION:Livermore Police Department\, 1110 S. Livermore Ave. Livermore\, California 94550
CLASS:PUBLIC
END:VEVENT
END:VCALENDAR
