BEGIN:VCALENDAR
VERSION:2.0
PRODID:City of Livermore website Calendar Creator
METHOD:PUBLISH
BEGIN:VEVENT
DTSTAMP:20260227T191529
DTSTART:20260402T190000
DTEND:20260402T210000
SUMMARY:We’re Talkin’ Books! Club hybrid meeting
DESCRIPTION:<p><a href="https://livermorelibrary.bibliocommons.com/v2/record/S175C1842362" title="https://livermorelibrary.bibliocommons.com/v2/record/S175C1842362"><strong><em>The Frozen River</em></strong></a><strong>&nbsp;by Ariel Lawhorn</strong> is the April book pick for the We're Talkin' Books! Club meeting. Join in person at the Civic Center Library in the Board Room or via Zoom at&nbsp;<a href="https://tinyurl.com/WTBLPL" title="https://tinyurl.com/WTBLPL">https://tinyurl.com/WTBLPL</a>&nbsp;on&nbsp;Thursday, April 2 at 7 p.m.</p><p>Book Summary: Maine, 1789: The Kennebec River freezes, entombing a man in the ice. Martha Ballard is summoned to examine the body and determine cause of death. As the local midwife and healer, Martha is good at keeping secrets. Her diary is a record of every birth and death, every murder and debacle that unfolds in the town of Hallowell. In that diary she also documented the details of an alleged rape that occurred four months earlier. Now, one of the men accused of that heinous attack has been found dead in the ice.</p><p> While Martha is certain she knows what happened the night of the assault, she suspects that the two crimes are linked, and that there is more to both cases than meets the eye. Over the course of one long, hard winter, as the trial nears, and whispers and prejudices mount, Martha’s diary lands at the center of the scandal and threatens to tear both her family and her community apart. - the publisher</p><p>Hybrid Meeting on Zoom at&nbsp;<a href="https://tinyurl.com/WTBLPL">https://tinyurl.com/WTBLPL</a>&nbsp;&amp;&nbsp;Civic Center Library Board Room, 1188 S. Livermore Ave., Livermore, CA</p>
X-ALT-DESC;FMTTYPE=text/html:<p><a href="https://livermorelibrary.bibliocommons.com/v2/record/S175C1842362" title="https://livermorelibrary.bibliocommons.com/v2/record/S175C1842362"><strong><em>The Frozen River</em></strong></a><strong>&nbsp;by Ariel Lawhorn</strong> is the April book pick for the We're Talkin' Books! Club meeting. Join in person at the Civic Center Library in the Board Room or via Zoom at&nbsp;<a href="https://tinyurl.com/WTBLPL" title="https://tinyurl.com/WTBLPL">https://tinyurl.com/WTBLPL</a>&nbsp;on&nbsp;Thursday, April 2 at 7 p.m.</p><p>Book Summary: Maine, 1789: The Kennebec River freezes, entombing a man in the ice. Martha Ballard is summoned to examine the body and determine cause of death. As the local midwife and healer, Martha is good at keeping secrets. Her diary is a record of every birth and death, every murder and debacle that unfolds in the town of Hallowell. In that diary she also documented the details of an alleged rape that occurred four months earlier. Now, one of the men accused of that heinous attack has been found dead in the ice.</p><p> While Martha is certain she knows what happened the night of the assault, she suspects that the two crimes are linked, and that there is more to both cases than meets the eye. Over the course of one long, hard winter, as the trial nears, and whispers and prejudices mount, Martha’s diary lands at the center of the scandal and threatens to tear both her family and her community apart. - the publisher</p><p>Hybrid Meeting on Zoom at&nbsp;<a href="https://tinyurl.com/WTBLPL">https://tinyurl.com/WTBLPL</a>&nbsp;&amp;&nbsp;Civic Center Library Board Room, 1188 S. Livermore Ave., Livermore, CA</p>
LOCATION:Civic Center Library Board Room or Zoom\, 1188 S. Livermore Ave. Livermore\, California 94550
CLASS:PUBLIC
END:VEVENT
END:VCALENDAR
