BEGIN:VCALENDAR
VERSION:2.0
PRODID:City of Livermore website Calendar Creator
METHOD:PUBLISH
BEGIN:VEVENT
DTSTAMP:20260227T132704
DTSTART:20260307T100000
DTEND:20260307T113000
SUMMARY:Affordable Homeownership Program Workshop
DESCRIPTION:<p>Learn about the City of Livermore's <a href="https://www.livermoreca.gov/departments/community-development/housing-human-services/affordable-homeownership-programs" target="_blank">Affordable&nbsp;Homeownership&nbsp;Program</a> at Civic Center Library on Saturday, March 7, from 10 - 11:30 a.m.</p><p></p>
X-ALT-DESC;FMTTYPE=text/html:<p>Learn about the City of Livermore's <a href="https://www.livermoreca.gov/departments/community-development/housing-human-services/affordable-homeownership-programs" target="_blank">Affordable&nbsp;Homeownership&nbsp;Program</a> at Civic Center Library on Saturday, March 7, from 10 - 11:30 a.m.</p><p></p>
LOCATION:Civic Center Library Community Rooms A & B\, 1188 S. Livermore Ave. Livermore\, California 94550
CLASS:PUBLIC
END:VEVENT
END:VCALENDAR
