BEGIN:VCALENDAR
VERSION:2.0
PRODID:City of Livermore website Calendar Creator
METHOD:PUBLISH
BEGIN:VEVENT
DTSTAMP:20260223T114405
DTSTART:20260401T000000
DTEND:20260401T235900
SUMMARY:Teen Art Expo Exhibit Opens
DESCRIPTION:<p>Every year in April, the Livermore Public Library hosts the <a href="https://library.livermoreca.gov/digital-library/teens/art-expo" target="_self">Teen Art Exposition</a>, showcasing the talent of Livermore’s teen artists in&nbsp;grades 6 through 12. The Library collected art entries in March 2026 based on the theme of&nbsp;<i>ADVENTURE&nbsp;</i>and those artworks are on display, as space permits, in the Gallery at <a href="https://library.livermoreca.gov/about-us/locations-hours-holidays/civic-center" target="_blank" rel="noopener">Civic Center Library</a>.</p><p>A reception for the Teen Art Expo will be held on Monday, April 13, 2026, at 7 p.m.&nbsp;in the Community Rooms at&nbsp;<a href="https://library.livermoreca.gov/about-us/locations-hours-holidays/civic-center" target="_blank" rel="noopener">Civic Center Library</a>.&nbsp;Artists and members of the community are welcome to attend. Teen artists in attendance may enter to win a prize drawing. Must be present to win the prize drawing.</p>
X-ALT-DESC;FMTTYPE=text/html:<p>Every year in April, the Livermore Public Library hosts the <a href="https://library.livermoreca.gov/digital-library/teens/art-expo" target="_self">Teen Art Exposition</a>, showcasing the talent of Livermore’s teen artists in&nbsp;grades 6 through 12. The Library collected art entries in March 2026 based on the theme of&nbsp;<i>ADVENTURE&nbsp;</i>and those artworks are on display, as space permits, in the Gallery at <a href="https://library.livermoreca.gov/about-us/locations-hours-holidays/civic-center" target="_blank" rel="noopener">Civic Center Library</a>.</p><p>A reception for the Teen Art Expo will be held on Monday, April 13, 2026, at 7 p.m.&nbsp;in the Community Rooms at&nbsp;<a href="https://library.livermoreca.gov/about-us/locations-hours-holidays/civic-center" target="_blank" rel="noopener">Civic Center Library</a>.&nbsp;Artists and members of the community are welcome to attend. Teen artists in attendance may enter to win a prize drawing. Must be present to win the prize drawing.</p>
LOCATION:Civic Center Library\, 1188 S. Livermore Ave Livermore\, California 94550
CLASS:PUBLIC
END:VEVENT
END:VCALENDAR
