BEGIN:VCALENDAR
VERSION:2.0
PRODID:City of Livermore website Calendar Creator
METHOD:PUBLISH
BEGIN:VEVENT
DTSTAMP:20260223T112337
DTSTART:20260315T000000
DTEND:20260315T235900
SUMMARY:Accepting Teen Art Expo Submissions
DESCRIPTION:<p>Through Sunday, March 22, 2026 at 4 p.m., the Library is accepting original artwork (one piece per artist or team*) for the 2026 Teen Art Exposition Show in April. This is a unique opportunity for Livermore teens, in grades 6 - 12, to share their artistic talent with the Livermore community. We invite Livermore middle school and high school students to submit artwork on this year’s theme: <strong><em>ADVENTURE</em></strong>.&nbsp;Please submit completed art and entry form in person to the Information Desk at the Civic Center Library.<br><sup><em>* Team members may not also enter as individuals.</em></sup></p><p>Full details on the&nbsp;<a href="https://library.livermoreca.gov/digital-library/teens/art-expo" target="_self">Teen Art Expo page</a>.</p><p>Printable&nbsp;<a href="https://livermore3.prod-as.govaccess.org/home/showpublisheddocument/13589/639058896508200000" target="_blank" rel="noopener">Teen Art Expo entry form</a>.</p><p></p><p>&nbsp;</p>
X-ALT-DESC;FMTTYPE=text/html:<p>Through Sunday, March 22, 2026 at 4 p.m., the Library is accepting original artwork (one piece per artist or team*) for the 2026 Teen Art Exposition Show in April. This is a unique opportunity for Livermore teens, in grades 6 - 12, to share their artistic talent with the Livermore community. We invite Livermore middle school and high school students to submit artwork on this year’s theme: <strong><em>ADVENTURE</em></strong>.&nbsp;Please submit completed art and entry form in person to the Information Desk at the Civic Center Library.<br><sup><em>* Team members may not also enter as individuals.</em></sup></p><p>Full details on the&nbsp;<a href="https://library.livermoreca.gov/digital-library/teens/art-expo" target="_self">Teen Art Expo page</a>.</p><p>Printable&nbsp;<a href="https://livermore3.prod-as.govaccess.org/home/showpublisheddocument/13589/639058896508200000" target="_blank" rel="noopener">Teen Art Expo entry form</a>.</p><p></p><p>&nbsp;</p>
LOCATION:Civic Center Library\, 1188 S. Livermore Ave Livermore\, California 94550
CLASS:PUBLIC
END:VEVENT
END:VCALENDAR
