BEGIN:VCALENDAR
VERSION:2.0
PRODID:City of Livermore website Calendar Creator
METHOD:PUBLISH
BEGIN:VEVENT
DTSTAMP:20260211T113603
DTSTART:20260301T073000
DTEND:20260301T110000
SUMMARY:Livermore Valley Half Marathon Road Closures
DESCRIPTION:<p><strong>12th Anniversary of the Livermore Valley Half Marathon</strong></p><p>The race will take place on Sunday, March 1, 2026, running through our community from 7:30 - 11 a.m.</p><p>Please review the road closures below and plan accordingly.</p><p>&nbsp;</p><p><strong>Road Closures (Earliest to Latest)</strong></p><p>• 2:30 a.m. – 12 p.m. | First St (between S L St and S Livermore Ave)</p><p>• 5 a.m. – 11:30 a.m. | First St (between S Livermore Ave and McLeod St)</p><p>• 7 a.m. – 11 a.m. | S Livermore Ave (between First St and Second St)</p><p>• 7 a.m. – 11 a.m. | McLeod St (between First St and Second St)</p><p>• 7 a.m. – 11 a.m. | Second St (from S L St to S N St)</p><p>• 7:30 a.m. – 11 a.m. | Second St (between McLeod St and S L St)</p><p>• 7:30 a.m. – 10:30 a.m. | S L St (between First St and College Ave)</p><p>• 7:30 a.m. – 10:30 a.m. | Arroyo Rd (southbound only, between College Ave and Concannon Blvd)</p><p>• 7:30 a.m. – 8:30 a.m. | Arroyo Rd (southbound only, between Concannon Blvd and Wetmore Rd)</p><p>• 8 a.m. – 10:30 a.m. | Concannon Blvd (eastbound bike lane only, between Arroyo Rd and Wente St)</p><p>&nbsp;</p><p><strong>Neighborhood Access</strong></p><p>• Use Concannon Blvd for neighborhoods north of Concannon.</p><p>• Use Wetmore Rd (via Holmes St) for neighborhoods north or south of Wetmore.</p><p>&nbsp;</p><p><strong>Traffic Delays</strong></p><p>Expect the heaviest delays between 7:40 a.m. – 8:15 a.m. Plan trips accordingly.</p><p>&nbsp;</p><p><strong>Traffic Management</strong></p><p>Livermore Police and CHP will manage course crossings at major intersections.</p><p>&nbsp;</p><p><strong>Community Events:</strong></p><p>• “Kids on K Street” Festival &amp; Kids Run: Please drive cautiously near these family-friendly activities.</p><p>• Livermore Downtown Farmer’s Market: OPEN and happening on Second St between L and N St (two blocks down) during the marathon.</p><p>&nbsp;</p><p>Thank you for your patience and support in making this event a success. We wish everyone a safe and enjoyable Marathon weekend.</p>
X-ALT-DESC;FMTTYPE=text/html:<p><strong>12th Anniversary of the Livermore Valley Half Marathon</strong></p><p>The race will take place on Sunday, March 1, 2026, running through our community from 7:30 - 11 a.m.</p><p>Please review the road closures below and plan accordingly.</p><p>&nbsp;</p><p><strong>Road Closures (Earliest to Latest)</strong></p><p>• 2:30 a.m. – 12 p.m. | First St (between S L St and S Livermore Ave)</p><p>• 5 a.m. – 11:30 a.m. | First St (between S Livermore Ave and McLeod St)</p><p>• 7 a.m. – 11 a.m. | S Livermore Ave (between First St and Second St)</p><p>• 7 a.m. – 11 a.m. | McLeod St (between First St and Second St)</p><p>• 7 a.m. – 11 a.m. | Second St (from S L St to S N St)</p><p>• 7:30 a.m. – 11 a.m. | Second St (between McLeod St and S L St)</p><p>• 7:30 a.m. – 10:30 a.m. | S L St (between First St and College Ave)</p><p>• 7:30 a.m. – 10:30 a.m. | Arroyo Rd (southbound only, between College Ave and Concannon Blvd)</p><p>• 7:30 a.m. – 8:30 a.m. | Arroyo Rd (southbound only, between Concannon Blvd and Wetmore Rd)</p><p>• 8 a.m. – 10:30 a.m. | Concannon Blvd (eastbound bike lane only, between Arroyo Rd and Wente St)</p><p>&nbsp;</p><p><strong>Neighborhood Access</strong></p><p>• Use Concannon Blvd for neighborhoods north of Concannon.</p><p>• Use Wetmore Rd (via Holmes St) for neighborhoods north or south of Wetmore.</p><p>&nbsp;</p><p><strong>Traffic Delays</strong></p><p>Expect the heaviest delays between 7:40 a.m. – 8:15 a.m. Plan trips accordingly.</p><p>&nbsp;</p><p><strong>Traffic Management</strong></p><p>Livermore Police and CHP will manage course crossings at major intersections.</p><p>&nbsp;</p><p><strong>Community Events:</strong></p><p>• “Kids on K Street” Festival &amp; Kids Run: Please drive cautiously near these family-friendly activities.</p><p>• Livermore Downtown Farmer’s Market: OPEN and happening on Second St between L and N St (two blocks down) during the marathon.</p><p>&nbsp;</p><p>Thank you for your patience and support in making this event a success. We wish everyone a safe and enjoyable Marathon weekend.</p>
LOCATION:Livermore Downtown\, 
CLASS:PUBLIC
END:VEVENT
END:VCALENDAR
