BEGIN:VCALENDAR
VERSION:2.0
PRODID:City of Livermore website Calendar Creator
METHOD:PUBLISH
BEGIN:VEVENT
DTSTAMP:20260327T100452
DTSTART:20260328T140000
DTEND:20260328T150000
SUMMARY:CLASS IS FULL: Western Paint Night with Pinot’s Palette
DESCRIPTION:<p>UPDATE: REGISTRATION IS FULL AT THE RINCON LIBRARY SESSION.&nbsp;</p><p><a href="https://pinotspalette.com/livermore?utm_campaign=localmaps&amp;utm_source=eulerity&amp;utm_medium=ads&amp;utm_content=21747552181_172243492710_5021451472207872&amp;gad_source=1" target="_blank" rel="noopener">Pinot’s Palette</a> will lead a paint night in honor of <a href="https://library.livermoreca.gov/events-services/event-calendars/livermore-reads-together" target="_self">Livermore Reads Together</a>. All supplies will be provided. Registration Required. For teens and adults, ages 15 and up. Call 925-373-5505 or 925-373-5540 to register.</p><p>The event is part of the&nbsp;<a href="https://library.livermoreca.gov/events-services/event-calendars/livermore-reads-together" target="_self">Livermore Reads Together</a>&nbsp;community reading program, featuring the novel&nbsp;"<a href="https://livermorelibrary.bibliocommons.com/v2/search?query=Silver%20Lies" target="_blank" rel="noopener">Silver Lies</a>"&nbsp;by&nbsp;<a href="https://library.livermoreca.gov/?splash=https%3a%2f%2fannparker.net%2f&amp;____isexternal=true" target="_blank" rel="noopener">Ann Parker</a>.&nbsp;Pick up a copy or borrow one from us and read along.</p>
X-ALT-DESC;FMTTYPE=text/html:<p>UPDATE: REGISTRATION IS FULL AT THE RINCON LIBRARY SESSION.&nbsp;</p><p><a href="https://pinotspalette.com/livermore?utm_campaign=localmaps&amp;utm_source=eulerity&amp;utm_medium=ads&amp;utm_content=21747552181_172243492710_5021451472207872&amp;gad_source=1" target="_blank" rel="noopener">Pinot’s Palette</a> will lead a paint night in honor of <a href="https://library.livermoreca.gov/events-services/event-calendars/livermore-reads-together" target="_self">Livermore Reads Together</a>. All supplies will be provided. Registration Required. For teens and adults, ages 15 and up. Call 925-373-5505 or 925-373-5540 to register.</p><p>The event is part of the&nbsp;<a href="https://library.livermoreca.gov/events-services/event-calendars/livermore-reads-together" target="_self">Livermore Reads Together</a>&nbsp;community reading program, featuring the novel&nbsp;"<a href="https://livermorelibrary.bibliocommons.com/v2/search?query=Silver%20Lies" target="_blank" rel="noopener">Silver Lies</a>"&nbsp;by&nbsp;<a href="https://library.livermoreca.gov/?splash=https%3a%2f%2fannparker.net%2f&amp;____isexternal=true" target="_blank" rel="noopener">Ann Parker</a>.&nbsp;Pick up a copy or borrow one from us and read along.</p>
LOCATION:Civic Center Library Storytime Room\, 1188 S. Livermore Ave. Livermore\, California 94550
CLASS:PUBLIC
END:VEVENT
END:VCALENDAR
