BEGIN:VCALENDAR
VERSION:2.0
PRODID:City of Livermore website Calendar Creator
METHOD:PUBLISH
BEGIN:VEVENT
DTSTAMP:20260210T181128
DTSTART:20260321T140000
DTEND:20260321T150000
SUMMARY:Livermore Reads Together: "In Honor of Women and Land" with an LARPD Naturalist
DESCRIPTION:<p>Travel back in time with <a href="https://www.larpd.org/">Livermore Area Recreation and Park District</a> (LARPD) Naturalist Candace to learn about the land and women's history of the Livermore Valley. Registration is not required to attend this free program for all ages.</p><p>The event is part of the&nbsp;<a href="https://library.livermoreca.gov/events-services/event-calendars/livermore-reads-together" target="_self">Livermore Reads Together</a>&nbsp;community reading program, featuring the novel&nbsp;"<a href="https://livermorelibrary.bibliocommons.com/v2/search?query=Silver%20Lies" target="_blank" rel="noopener">Silver Lies</a>"&nbsp;by&nbsp;<a href="https://library.livermoreca.gov/?splash=https%3a%2f%2fannparker.net%2f&amp;____isexternal=true" target="_blank" rel="noopener">Ann Parker</a>.&nbsp;Pick up a copy or borrow one from us and read along.</p>
X-ALT-DESC;FMTTYPE=text/html:<p>Travel back in time with <a href="https://www.larpd.org/">Livermore Area Recreation and Park District</a> (LARPD) Naturalist Candace to learn about the land and women's history of the Livermore Valley. Registration is not required to attend this free program for all ages.</p><p>The event is part of the&nbsp;<a href="https://library.livermoreca.gov/events-services/event-calendars/livermore-reads-together" target="_self">Livermore Reads Together</a>&nbsp;community reading program, featuring the novel&nbsp;"<a href="https://livermorelibrary.bibliocommons.com/v2/search?query=Silver%20Lies" target="_blank" rel="noopener">Silver Lies</a>"&nbsp;by&nbsp;<a href="https://library.livermoreca.gov/?splash=https%3a%2f%2fannparker.net%2f&amp;____isexternal=true" target="_blank" rel="noopener">Ann Parker</a>.&nbsp;Pick up a copy or borrow one from us and read along.</p>
LOCATION:Civic Center Library Storytime Room\, 1188 S. Livermore Ave. Livermore\, California 94550
CLASS:PUBLIC
END:VEVENT
END:VCALENDAR
