BEGIN:VCALENDAR
VERSION:2.0
PRODID:City of Livermore website Calendar Creator
METHOD:PUBLISH
BEGIN:VEVENT
DTSTAMP:20260226T104444
DTSTART:20260320T153000
DTEND:20260320T163000
SUMMARY:LRT: Kids, Make Your Own Cowpoke / Niños, Crea tu propio vaquero
DESCRIPTION:<p>Livermore Reads Together Rincon Crafternoon: Make Your Own Cowpoke. Use a little bit of paper and imagination to make a representation of yourself in western wear. For kids.<br><br>Livermore Lee Juntos: Tarde de manualidades en Rincon: Crea tu propio vaquero. Usa un poco de papel e imaginación para representarte con ropa vaquera. Para los niños.</p>
X-ALT-DESC;FMTTYPE=text/html:<p>Livermore Reads Together Rincon Crafternoon: Make Your Own Cowpoke. Use a little bit of paper and imagination to make a representation of yourself in western wear. For kids.<br><br>Livermore Lee Juntos: Tarde de manualidades en Rincon: Crea tu propio vaquero. Usa un poco de papel e imaginación para representarte con ropa vaquera. Para los niños.</p>
LOCATION:Rincon Library\, 725 Rincon Avenue Livermore\, California 94551
CLASS:PUBLIC
END:VEVENT
END:VCALENDAR
