BEGIN:VCALENDAR
VERSION:2.0
PRODID:City of Livermore website Calendar Creator
METHOD:PUBLISH
BEGIN:VEVENT
DTSTAMP:20260210T182028
DTSTART:20260317T000000
DTEND:20260317T235900
SUMMARY:Livermore Reads Together: Take & Make Craft at Springtown
DESCRIPTION:<p>Collect a craft kit for children to make a horse and learn about Livermore's ranching history.</p><p>The craft is part of the <a href="https://library.livermoreca.gov/events-services/event-calendars/livermore-reads-together" target="_self">Livermore Reads Together</a>&nbsp;community reading program, featuring the novel&nbsp;"<a href="https://livermorelibrary.bibliocommons.com/v2/search?query=Silver%20Lies" target="_blank" rel="noopener">Silver Lies</a>"&nbsp;by&nbsp;<a href="https://library.livermoreca.gov/?splash=https%3a%2f%2fannparker.net%2f&amp;____isexternal=true" target="_blank" rel="noopener">Ann Parker</a>.&nbsp;Pick up a copy or borrow one from us and read along.</p>
X-ALT-DESC;FMTTYPE=text/html:<p>Collect a craft kit for children to make a horse and learn about Livermore's ranching history.</p><p>The craft is part of the <a href="https://library.livermoreca.gov/events-services/event-calendars/livermore-reads-together" target="_self">Livermore Reads Together</a>&nbsp;community reading program, featuring the novel&nbsp;"<a href="https://livermorelibrary.bibliocommons.com/v2/search?query=Silver%20Lies" target="_blank" rel="noopener">Silver Lies</a>"&nbsp;by&nbsp;<a href="https://library.livermoreca.gov/?splash=https%3a%2f%2fannparker.net%2f&amp;____isexternal=true" target="_blank" rel="noopener">Ann Parker</a>.&nbsp;Pick up a copy or borrow one from us and read along.</p>
LOCATION:Springtown Library\, 998 Bluebell Dr Livermore\, California 94551
CLASS:PUBLIC
END:VEVENT
END:VCALENDAR
