BEGIN:VCALENDAR
VERSION:2.0
PRODID:City of Livermore website Calendar Creator
METHOD:PUBLISH
BEGIN:VEVENT
DTSTAMP:20260210T165904
DTSTART:20260331T000000
DTEND:20260331T235900
SUMMARY:Livermore Reads Together: Cattle Roundup
DESCRIPTION:Bring the kids to your nearest Livermore Public Library for them to find the stuffed cow and enter to win a raffle prize.
X-ALT-DESC;FMTTYPE=text/html:Bring the kids to your nearest Livermore Public Library for them to find the stuffed cow and enter to win a raffle prize.
LOCATION:All Branches\, 
CLASS:PUBLIC
END:VEVENT
END:VCALENDAR
