BEGIN:VCALENDAR
VERSION:2.0
PRODID:City of Livermore website Calendar Creator
METHOD:PUBLISH
BEGIN:VEVENT
DTSTAMP:20260206T130645
DTSTART:20260316T000000
DTEND:20260316T235900
SUMMARY:Women's History Month Coloring Sheets
DESCRIPTION:Stop by the Rincon Library to pick up a coloring sheet to celebrate women in history. Color it at the branch or take it home. For all ages.
X-ALT-DESC;FMTTYPE=text/html:Stop by the Rincon Library to pick up a coloring sheet to celebrate women in history. Color it at the branch or take it home. For all ages.
LOCATION:Rincon Library\, 725 Rincon Avenue Livermore\, California 94551
CLASS:PUBLIC
END:VEVENT
END:VCALENDAR
