BEGIN:VCALENDAR
VERSION:2.0
PRODID:City of Livermore website Calendar Creator
METHOD:PUBLISH
BEGIN:VEVENT
DTSTAMP:20260219T113830
DTSTART:20260304T163000
DTEND:20260304T173000
SUMMARY:A Reading Fluency (A.R.F) Club for Grades 3 & 4 at Rincon
DESCRIPTION:<p>Do you have a third or fourth grader who struggles with fluency? Call 925-373-5505 to sign up for A Reading Fluency (A.R.F.) club at Rincon Library for kids to read to a dog, read to others, listen to reading, and work on improving reading fluency. Priority is given to&nbsp;students in grades 3 and 4 with fluency needs. Weekly&nbsp;attendance on Wednesdays from through April 1. Sign up and register while spaces are available.</p>
X-ALT-DESC;FMTTYPE=text/html:<p>Do you have a third or fourth grader who struggles with fluency? Call 925-373-5505 to sign up for A Reading Fluency (A.R.F.) club at Rincon Library for kids to read to a dog, read to others, listen to reading, and work on improving reading fluency. Priority is given to&nbsp;students in grades 3 and 4 with fluency needs. Weekly&nbsp;attendance on Wednesdays from through April 1. Sign up and register while spaces are available.</p>
LOCATION:Rincon Library\, 725 Rincon Avenue Livermore\, California 94551
CLASS:PUBLIC
END:VEVENT
END:VCALENDAR
