BEGIN:VCALENDAR
VERSION:2.0
PRODID:City of Livermore website Calendar Creator
METHOD:PUBLISH
BEGIN:VEVENT
DTSTAMP:20260205T175612
DTSTART:20260326T190000
DTEND:20260326T210000
SUMMARY:Good Reads Book Club meeting
DESCRIPTION:<p><i><a href="https://livermorelibrary.bibliocommons.com/v2/record/S175C1885599"><strong>My Father’s House</strong></a></i><strong> by Joseph O’Connor</strong> is the March book for the Good Reads Book Club. Join in person at the Civic Center Library in the Storytime Room on Thursday, March 26, 2026, at 7 p.m.</p><p>Book Summary: "September 1943: German forces have Rome under their control. SS Commander Paul Hauptmann rules over the Eternal City with vicious efficiency. The war’s outcome is far from certain. Diplomats, refugees, Jews, and escaped Allied prisoners flee for protection into Vatican City, a neutral, independent state nestled in the city of Rome. A small band of unlikely friends led by a courageous Irish priest is drawn into deadly battle of wits with Hauptmann and his soldiers.”—the publisher</p><p><a href="http://library.livermoreca.gov/digital-library/books-more/book-clubs" target="_self">Book Clubs at the Livermore Public Library</a></p>
X-ALT-DESC;FMTTYPE=text/html:<p><i><a href="https://livermorelibrary.bibliocommons.com/v2/record/S175C1885599"><strong>My Father’s House</strong></a></i><strong> by Joseph O’Connor</strong> is the March book for the Good Reads Book Club. Join in person at the Civic Center Library in the Storytime Room on Thursday, March 26, 2026, at 7 p.m.</p><p>Book Summary: "September 1943: German forces have Rome under their control. SS Commander Paul Hauptmann rules over the Eternal City with vicious efficiency. The war’s outcome is far from certain. Diplomats, refugees, Jews, and escaped Allied prisoners flee for protection into Vatican City, a neutral, independent state nestled in the city of Rome. A small band of unlikely friends led by a courageous Irish priest is drawn into deadly battle of wits with Hauptmann and his soldiers.”—the publisher</p><p><a href="http://library.livermoreca.gov/digital-library/books-more/book-clubs" target="_self">Book Clubs at the Livermore Public Library</a></p>
LOCATION:Civic Center Library\, Storytime Room\, 1188 S. Livermore Ave. Livermore\, California 94550
CLASS:PUBLIC
END:VEVENT
END:VCALENDAR
