BEGIN:VCALENDAR
VERSION:2.0
PRODID:City of Livermore website Calendar Creator
METHOD:PUBLISH
BEGIN:VEVENT
DTSTAMP:20260210T175403
DTSTART:20260314T130000
DTEND:20260314T140000
SUMMARY:Livermore Reads Together: Cowgirl Tricks Show
DESCRIPTION:<p>Cowgirl Tricks is a comedic bonanza of trick roping, whip cracking, music, magic, audience participation, and lots of kooky cowgirl shenanigans, perfect for the whole family.&nbsp;</p><p>The event is part of the&nbsp;<a href="https://library.livermoreca.gov/events-services/event-calendars/livermore-reads-together" target="_self">Livermore Reads Together</a>&nbsp;community reading program, featuring the novel&nbsp;"<a href="https://livermorelibrary.bibliocommons.com/v2/search?query=Silver%20Lies" target="_blank" rel="noopener">Silver Lies</a>"&nbsp;by&nbsp;<a href="https://library.livermoreca.gov/?splash=https%3a%2f%2fannparker.net%2f&amp;____isexternal=true" target="_blank" rel="noopener">Ann Parker</a>.&nbsp;Pick up a copy or borrow one from us and read along.</p>
X-ALT-DESC;FMTTYPE=text/html:<p>Cowgirl Tricks is a comedic bonanza of trick roping, whip cracking, music, magic, audience participation, and lots of kooky cowgirl shenanigans, perfect for the whole family.&nbsp;</p><p>The event is part of the&nbsp;<a href="https://library.livermoreca.gov/events-services/event-calendars/livermore-reads-together" target="_self">Livermore Reads Together</a>&nbsp;community reading program, featuring the novel&nbsp;"<a href="https://livermorelibrary.bibliocommons.com/v2/search?query=Silver%20Lies" target="_blank" rel="noopener">Silver Lies</a>"&nbsp;by&nbsp;<a href="https://library.livermoreca.gov/?splash=https%3a%2f%2fannparker.net%2f&amp;____isexternal=true" target="_blank" rel="noopener">Ann Parker</a>.&nbsp;Pick up a copy or borrow one from us and read along.</p>
LOCATION:Civic Center Library Plaza\, 1188 S. Livermore Ave. Livermore\, California 94550
CLASS:PUBLIC
END:VEVENT
END:VCALENDAR
