BEGIN:VCALENDAR
VERSION:2.0
PRODID:City of Livermore website Calendar Creator
METHOD:PUBLISH
BEGIN:VEVENT
DTSTAMP:20260210T134216
DTSTART:20260302T000000
DTEND:20260302T235900
SUMMARY:Women's History Month Coloring Sheets
DESCRIPTION:<p>Stop by the Rincon Library to pick up a coloring sheet to celebrate women in history. Color it at the branch or take it home. For all ages.</p>
X-ALT-DESC;FMTTYPE=text/html:<p>Stop by the Rincon Library to pick up a coloring sheet to celebrate women in history. Color it at the branch or take it home. For all ages.</p>
LOCATION:Rincon Library\, 725 Rincon Avenue Livermore\, California 94551
CLASS:PUBLIC
END:VEVENT
END:VCALENDAR
