BEGIN:VCALENDAR
VERSION:2.0
PRODID:City of Livermore website Calendar Creator
METHOD:PUBLISH
BEGIN:VEVENT
DTSTAMP:20260210T173525
DTSTART:20260310T190000
DTEND:20260310T200000
SUMMARY:Online Author Talk – "Frontier Grit: The Unlikely True Stories of Daring Pioneer Women" with Marianne Monson
DESCRIPTION:<p>Livermore Public Library is thrilled to welcome <b>Marianne Monson</b>, acclaimed author of <i>Frontier Grit: The Unlikely True Stories of Daring Pioneer Women</i>. Join us for a talk on Zoom at&nbsp;<a href="https://us02web.zoom.us/j/88064438285">https://us02web.zoom.us/j/88064438285</a>&nbsp;on Tuesday, March 10 at 7 p.m. (PST).&nbsp;Discover the incredible stories of courageous women who defied expectations and helped shape the American frontier. Monson’s work brings history to life with tales of resilience, adventure, and grit!&nbsp;&nbsp;</p><p><b>About the Author:</b><br>Marianne Monson is a best-selling author of twelve books for children and adults, specializing in frontier-era women’s history. Her works include <i>Frontier Grit</i>, <i>Women of the Blue and Gray</i>, and her latest novel, <i>The Opera Sisters</i>.</p><p>The event is part of the&nbsp;<a href="https://library.livermoreca.gov/events-services/event-calendars/livermore-reads-together" target="_self">Livermore Reads Together</a>&nbsp;community reading program, featuring the novel&nbsp;"<a href="https://livermorelibrary.bibliocommons.com/v2/search?query=Silver%20Lies" target="_blank" rel="noopener">Silver Lies</a>"&nbsp;by&nbsp;<a href="https://library.livermoreca.gov/?splash=https%3a%2f%2fannparker.net%2f&amp;____isexternal=true" target="_blank" rel="noopener">Ann Parker</a>.&nbsp;Pick up a copy or borrow one from us and read along.</p>
X-ALT-DESC;FMTTYPE=text/html:<p>Livermore Public Library is thrilled to welcome <b>Marianne Monson</b>, acclaimed author of <i>Frontier Grit: The Unlikely True Stories of Daring Pioneer Women</i>. Join us for a talk on Zoom at&nbsp;<a href="https://us02web.zoom.us/j/88064438285">https://us02web.zoom.us/j/88064438285</a>&nbsp;on Tuesday, March 10 at 7 p.m. (PST).&nbsp;Discover the incredible stories of courageous women who defied expectations and helped shape the American frontier. Monson’s work brings history to life with tales of resilience, adventure, and grit!&nbsp;&nbsp;</p><p><b>About the Author:</b><br>Marianne Monson is a best-selling author of twelve books for children and adults, specializing in frontier-era women’s history. Her works include <i>Frontier Grit</i>, <i>Women of the Blue and Gray</i>, and her latest novel, <i>The Opera Sisters</i>.</p><p>The event is part of the&nbsp;<a href="https://library.livermoreca.gov/events-services/event-calendars/livermore-reads-together" target="_self">Livermore Reads Together</a>&nbsp;community reading program, featuring the novel&nbsp;"<a href="https://livermorelibrary.bibliocommons.com/v2/search?query=Silver%20Lies" target="_blank" rel="noopener">Silver Lies</a>"&nbsp;by&nbsp;<a href="https://library.livermoreca.gov/?splash=https%3a%2f%2fannparker.net%2f&amp;____isexternal=true" target="_blank" rel="noopener">Ann Parker</a>.&nbsp;Pick up a copy or borrow one from us and read along.</p>
LOCATION:Online via Zoom\, 
CLASS:PUBLIC
END:VEVENT
END:VCALENDAR
