BEGIN:VCALENDAR
VERSION:2.0
PRODID:City of Livermore website Calendar Creator
METHOD:PUBLISH
BEGIN:VEVENT
DTSTAMP:20260210T174927
DTSTART:20260308T140000
DTEND:20260308T150000
SUMMARY:Trailblazers of the West Presented by Encore Players
DESCRIPTION:<p>Step back in time and celebrate the pioneers who shaped the American frontier! Through engaging readings, <a href="https://www.encoreplayers.net/" target="_blank" rel="noopener">Encore Players</a> bring their inspiring stories to life—featuring figures such as Annie Oakley, Calamity Jane, Will Rogers, Mark Twain, and Betty Reid Soskin.</p><p>The event is part&nbsp;of the&nbsp;<a href="https://library.livermoreca.gov/events-services/event-calendars/livermore-reads-together" target="_self">Livermore Reads Together</a>&nbsp;community reading program, featuring the novel&nbsp;"<a href="https://livermorelibrary.bibliocommons.com/v2/search?query=Silver%20Lies" target="_blank" rel="noopener">Silver Lies</a>"&nbsp;by&nbsp;<a href="https://library.livermoreca.gov/?splash=https%3a%2f%2fannparker.net%2f&amp;____isexternal=true" target="_blank" rel="noopener">Ann Parker</a>.&nbsp;Pick up a copy or borrow one from us and read along.</p>
X-ALT-DESC;FMTTYPE=text/html:<p>Step back in time and celebrate the pioneers who shaped the American frontier! Through engaging readings, <a href="https://www.encoreplayers.net/" target="_blank" rel="noopener">Encore Players</a> bring their inspiring stories to life—featuring figures such as Annie Oakley, Calamity Jane, Will Rogers, Mark Twain, and Betty Reid Soskin.</p><p>The event is part&nbsp;of the&nbsp;<a href="https://library.livermoreca.gov/events-services/event-calendars/livermore-reads-together" target="_self">Livermore Reads Together</a>&nbsp;community reading program, featuring the novel&nbsp;"<a href="https://livermorelibrary.bibliocommons.com/v2/search?query=Silver%20Lies" target="_blank" rel="noopener">Silver Lies</a>"&nbsp;by&nbsp;<a href="https://library.livermoreca.gov/?splash=https%3a%2f%2fannparker.net%2f&amp;____isexternal=true" target="_blank" rel="noopener">Ann Parker</a>.&nbsp;Pick up a copy or borrow one from us and read along.</p>
LOCATION:Civic Center Library Storytime Room\, 1188 S. Livermore Ave. Livermore\, California 94550
CLASS:PUBLIC
END:VEVENT
END:VCALENDAR
