BEGIN:VCALENDAR
VERSION:2.0
PRODID:City of Livermore website Calendar Creator
METHOD:PUBLISH
BEGIN:VEVENT
DTSTAMP:20260210T174738
DTSTART:20260307T140000
DTEND:20260307T160000
SUMMARY:Livermore Reads Together Art Show Reception
DESCRIPTION:<p>All ages are invited to attend a public reception with light refreshments and an opportunity to meet and greet the artists featured in the March art exhibit, 'Light of the West', in collaboration with the&nbsp;<a href="https://library.livermoreca.gov/?splash=https%3a%2f%2flivermoreartassociation.org%2f&amp;____isexternal=true" target="_blank" rel="noopener">Livermore Art Association</a>.</p><p>The exhibition explores&nbsp;themes of discovery, resilience, mystery, and illumination—reflecting a spirit of innovation across the American West. It is&nbsp;on view at <a href="https://library.livermoreca.gov/about-us/locations-hours-holidays/civic-center" target="_self">Civic Center Library</a> Gallery (1188 S. Livermore Ave.) through March 31, 2026.</p><p>The event is sponsored by&nbsp;<a href="https://www.friendsoflivermorelibrary.org/" target="_blank" rel="noopener">Friends of the Livermore Public Library</a>&nbsp;as part of the&nbsp;<a href="https://library.livermoreca.gov/events-services/event-calendars/livermore-reads-together" target="_self">Livermore Reads Together</a>&nbsp;community reading program, featuring the novel&nbsp;"<a href="https://livermorelibrary.bibliocommons.com/v2/search?query=Silver%20Lies" target="_blank" rel="noopener">Silver Lies</a>"&nbsp;by&nbsp;<a href="https://library.livermoreca.gov/?splash=https%3a%2f%2fannparker.net%2f&amp;____isexternal=true" target="_blank" rel="noopener">Ann Parker</a>.&nbsp;Pick up a copy or borrow one from us and read along.</p>
X-ALT-DESC;FMTTYPE=text/html:<p>All ages are invited to attend a public reception with light refreshments and an opportunity to meet and greet the artists featured in the March art exhibit, 'Light of the West', in collaboration with the&nbsp;<a href="https://library.livermoreca.gov/?splash=https%3a%2f%2flivermoreartassociation.org%2f&amp;____isexternal=true" target="_blank" rel="noopener">Livermore Art Association</a>.</p><p>The exhibition explores&nbsp;themes of discovery, resilience, mystery, and illumination—reflecting a spirit of innovation across the American West. It is&nbsp;on view at <a href="https://library.livermoreca.gov/about-us/locations-hours-holidays/civic-center" target="_self">Civic Center Library</a> Gallery (1188 S. Livermore Ave.) through March 31, 2026.</p><p>The event is sponsored by&nbsp;<a href="https://www.friendsoflivermorelibrary.org/" target="_blank" rel="noopener">Friends of the Livermore Public Library</a>&nbsp;as part of the&nbsp;<a href="https://library.livermoreca.gov/events-services/event-calendars/livermore-reads-together" target="_self">Livermore Reads Together</a>&nbsp;community reading program, featuring the novel&nbsp;"<a href="https://livermorelibrary.bibliocommons.com/v2/search?query=Silver%20Lies" target="_blank" rel="noopener">Silver Lies</a>"&nbsp;by&nbsp;<a href="https://library.livermoreca.gov/?splash=https%3a%2f%2fannparker.net%2f&amp;____isexternal=true" target="_blank" rel="noopener">Ann Parker</a>.&nbsp;Pick up a copy or borrow one from us and read along.</p>
LOCATION:Civic Center Library Community Room\, 1188 S. Livermore Ave. Livermore\, California 94550
CLASS:PUBLIC
END:VEVENT
END:VCALENDAR
