BEGIN:VCALENDAR
VERSION:2.0
PRODID:City of Livermore website Calendar Creator
METHOD:PUBLISH
BEGIN:VEVENT
DTSTAMP:20260123T181148
DTSTART:20260228T140000
DTEND:20260228T150000
SUMMARY:Meet Author Drew Daywalt
DESCRIPTION:<p>New York Times best-selling author Drew Daywalt will visit the Livermore Public Library on Saturday, February 28 at 2 p.m. at the Civic Center Library, 1188 S. Livermore Ave., Livermore CA 94550.&nbsp; Daywalt is the author of <i>The Day the Crayons Quit</i>, <i>The Legend of Rock Paper Scissors</i>, and <i>The Wrong Book</i> among many more.&nbsp; He will discuss his new book, <i>Forty the Fortune Teller</i>, a laugh-out-loud funny graphic novel-style picture book about a paper fortune teller left behind at recess who ends up saving the day.&nbsp; </p>The event is free and open to all ages.&nbsp; Books will be available to purchase at the event from <a href="https://www.livermoredowntown.com/go/towne-center-books-1" target="_blank" rel="noopener">Towne Center Books</a>.&nbsp; For further information, please call 925-373-5500.
X-ALT-DESC;FMTTYPE=text/html:<p>New York Times best-selling author Drew Daywalt will visit the Livermore Public Library on Saturday, February 28 at 2 p.m. at the Civic Center Library, 1188 S. Livermore Ave., Livermore CA 94550.&nbsp; Daywalt is the author of <i>The Day the Crayons Quit</i>, <i>The Legend of Rock Paper Scissors</i>, and <i>The Wrong Book</i> among many more.&nbsp; He will discuss his new book, <i>Forty the Fortune Teller</i>, a laugh-out-loud funny graphic novel-style picture book about a paper fortune teller left behind at recess who ends up saving the day.&nbsp; </p>The event is free and open to all ages.&nbsp; Books will be available to purchase at the event from <a href="https://www.livermoredowntown.com/go/towne-center-books-1" target="_blank" rel="noopener">Towne Center Books</a>.&nbsp; For further information, please call 925-373-5500.
LOCATION:Civic Center Library Storytime Room\, 1188 S. Livermore Ave. Livermore\, California 94550
CLASS:PUBLIC
END:VEVENT
END:VCALENDAR
