BEGIN:VCALENDAR
VERSION:2.0
PRODID:City of Livermore website Calendar Creator
METHOD:PUBLISH
BEGIN:VEVENT
DTSTAMP:20260220T171230
DTSTART:20260224T000000
DTEND:20260224T235900
SUMMARY:UPDATE: Out of Springtown Take & Make Craft: Plant a Seed
DESCRIPTION:<p>UPDATE: All out of the February Take &amp; Make kit&nbsp;supplies.</p><p>Be inspired by <i>Something Someday</i>, a picture book written by Amanda Gorman and illustrated by Christian Robinson. Come to the Springtown Library to pick up a kit containing the specialized supplies that you need to decorate a pot and plant a chamomile seed. This free activity kit is available during the month of February, while supplies last.</p>
X-ALT-DESC;FMTTYPE=text/html:<p>UPDATE: All out of the February Take &amp; Make kit&nbsp;supplies.</p><p>Be inspired by <i>Something Someday</i>, a picture book written by Amanda Gorman and illustrated by Christian Robinson. Come to the Springtown Library to pick up a kit containing the specialized supplies that you need to decorate a pot and plant a chamomile seed. This free activity kit is available during the month of February, while supplies last.</p>
LOCATION:Springtown Library\, 998 Bluebell Dr Livermore\, California 94551
CLASS:PUBLIC
END:VEVENT
END:VCALENDAR
