BEGIN:VCALENDAR
VERSION:2.0
PRODID:City of Livermore website Calendar Creator
METHOD:PUBLISH
BEGIN:VEVENT
DTSTAMP:20260205T201600
DTSTART:20260220T153000
DTEND:20260220T163000
SUMMARY:African Music and Arts Village with Baba Shibambo
DESCRIPTION:<p>Experience an interactive, high-energy performance that takes participants on a journey back into the heart of ancient Africa through music and story. For the whole family&nbsp;in celebration of&nbsp;<a href="https://library.livermoreca.gov/Home/Components/News/News/1471/3895" target="_self">Black History Month</a>&nbsp;at Livermore Public Library.</p><p>The performance with <a href="https://shibamboworldmusic.com/home-1" target="_blank" rel="noopener">Baba Shibambo World Music</a> is part of our&nbsp;<a href="https://library.livermoreca.gov/?splash=https%3a%2f%2fwww.blackhistorymonth.gov%2fAbout.html&amp;____isexternal=true" target="_blank" rel="noopener">Black History Month</a>&nbsp;event programming happening through February 28, 2026. Celebrate the history and cultural impact of Black Americans. All are invited to attend the&nbsp;<a href="https://library.livermoreca.gov/Home/Components/News/News/1471/3895" target="_blank" rel="noopener">free events</a>&nbsp;and utilize the offered resources and services to learn more about this nationally celebrated month.</p><p>Thanks to the support of the&nbsp;<a href="https://www.friendsoflivermorelibrary.org/" target="_blank" rel="noopener">Friends of the Livermore Public Library</a>, all&nbsp;<a href="https://library.livermoreca.gov/?splash=https%3a%2f%2fwww.blackhistorymonth.gov%2fAbout.html&amp;____isexternal=true" target="_blank" rel="noopener">Black History Month</a>&nbsp;events are free and open to the public. For more information, please call 925-373-5505.</p>
X-ALT-DESC;FMTTYPE=text/html:<p>Experience an interactive, high-energy performance that takes participants on a journey back into the heart of ancient Africa through music and story. For the whole family&nbsp;in celebration of&nbsp;<a href="https://library.livermoreca.gov/Home/Components/News/News/1471/3895" target="_self">Black History Month</a>&nbsp;at Livermore Public Library.</p><p>The performance with <a href="https://shibamboworldmusic.com/home-1" target="_blank" rel="noopener">Baba Shibambo World Music</a> is part of our&nbsp;<a href="https://library.livermoreca.gov/?splash=https%3a%2f%2fwww.blackhistorymonth.gov%2fAbout.html&amp;____isexternal=true" target="_blank" rel="noopener">Black History Month</a>&nbsp;event programming happening through February 28, 2026. Celebrate the history and cultural impact of Black Americans. All are invited to attend the&nbsp;<a href="https://library.livermoreca.gov/Home/Components/News/News/1471/3895" target="_blank" rel="noopener">free events</a>&nbsp;and utilize the offered resources and services to learn more about this nationally celebrated month.</p><p>Thanks to the support of the&nbsp;<a href="https://www.friendsoflivermorelibrary.org/" target="_blank" rel="noopener">Friends of the Livermore Public Library</a>, all&nbsp;<a href="https://library.livermoreca.gov/?splash=https%3a%2f%2fwww.blackhistorymonth.gov%2fAbout.html&amp;____isexternal=true" target="_blank" rel="noopener">Black History Month</a>&nbsp;events are free and open to the public. For more information, please call 925-373-5505.</p>
LOCATION:Rincon Library\, 725 Rincon Avenue Livermore\, California 94551
CLASS:PUBLIC
END:VEVENT
END:VCALENDAR
