BEGIN:VCALENDAR
VERSION:2.0
PRODID:City of Livermore website Calendar Creator
METHOD:PUBLISH
BEGIN:VEVENT
DTSTAMP:20260120T132458
DTSTART:20260224T190000
DTEND:20260224T210000
SUMMARY:Twilight Chapters Book Club
DESCRIPTION:<p>For fans of Sci-fi and Fantasy, we have the Twilight&nbsp;Chapters&nbsp;Book Club! Meetings will be held on the fourth Tuesday of the month at 7:00 p.m. The book we will be discussing on Feb. 24th is <i><a href="https://livermorelibrary.bibliocommons.com/v2/search?query=Project%20Hail%20Mary" target="_self">Project Hail Mary</a> </i>by Andy Weir.</p><p>Book Summary: "A lone astronaut. An impossible mission. An ally he never imagined. Ryland Grace is the sole survivor on a desperate, last-chance mission--and if he fails, humanity and Earth itself will perish. Except that right now, he doesn't know that. He can't even remember his own name, let alone the nature of his assignment or how to complete it. All he knows is that he's been asleep for a very, very long time. And he's just been awakened to find himself millions of miles from home, with nothing but two corpses for company. His crewmates dead, his memories fuzzily returning, Ryland realizes that an impossible task now confronts him. Hurtling through space on this tiny ship, it's up to him to puzzle out an impossible scientific mystery--and conquer an extinction-level threat to our species. And with the clock ticking down and the nearest human being light-years away, he's got to do it all alone. Or does he? An irresistible interstellar adventure as only Andy Weir could imagine it, Project Hail Mary is a tale of discovery, speculation, and survival to rival The Martian-while taking us to places it never dreamed of going" -- from the publisher.</p>
X-ALT-DESC;FMTTYPE=text/html:<p>For fans of Sci-fi and Fantasy, we have the Twilight&nbsp;Chapters&nbsp;Book Club! Meetings will be held on the fourth Tuesday of the month at 7:00 p.m. The book we will be discussing on Feb. 24th is <i><a href="https://livermorelibrary.bibliocommons.com/v2/search?query=Project%20Hail%20Mary" target="_self">Project Hail Mary</a> </i>by Andy Weir.</p><p>Book Summary: "A lone astronaut. An impossible mission. An ally he never imagined. Ryland Grace is the sole survivor on a desperate, last-chance mission--and if he fails, humanity and Earth itself will perish. Except that right now, he doesn't know that. He can't even remember his own name, let alone the nature of his assignment or how to complete it. All he knows is that he's been asleep for a very, very long time. And he's just been awakened to find himself millions of miles from home, with nothing but two corpses for company. His crewmates dead, his memories fuzzily returning, Ryland realizes that an impossible task now confronts him. Hurtling through space on this tiny ship, it's up to him to puzzle out an impossible scientific mystery--and conquer an extinction-level threat to our species. And with the clock ticking down and the nearest human being light-years away, he's got to do it all alone. Or does he? An irresistible interstellar adventure as only Andy Weir could imagine it, Project Hail Mary is a tale of discovery, speculation, and survival to rival The Martian-while taking us to places it never dreamed of going" -- from the publisher.</p>
LOCATION:Civic Center Library Board Room\, 1188 S. Livermore Ave. Livermore\, California 94550
CLASS:PUBLIC
END:VEVENT
END:VCALENDAR
