BEGIN:VCALENDAR
VERSION:2.0
PRODID:City of Livermore website Calendar Creator
METHOD:PUBLISH
BEGIN:VEVENT
DTSTAMP:20260120T131358
DTSTART:20260319T140000
DTEND:20260319T160000
SUMMARY:Thursday Classic Mystery Book Club
DESCRIPTION:<p>For the March meeting, the group will read “<a href="https://livermorelibrary.bibliocommons.com/v2/record/S175C1020018">Death on the Nile</a>” by Agatha Christie. Join the discussion on Thursday, March 19 at 2 p.m. in Community Room B, Civic Center Library, 1188 S. Livermore Ave. Please note the change in meeting location for this meeting. Registration is not required to attend the meeting.</p><p>Book summary: Linnet Ridgeway is young, beautiful, smart, and rich. On her honeymoon cruise up the Nile in Egypt, tensions mount. Several of the passengers are harboring dark secrets, and before long a murder is discovered — but the obvious suspect can’t possibly be guilty. Another death soon follows. Fortunately, Hercule Poirot is on hand to sort through the bewildering clues. Was it the pompous German doctor? The New York financier? The offensive young communist? And who stole Linnet’s priceless pearl necklace? This is one of Christie’s cleverest and most perplexing mysteries!</p><p><a href="https://library.livermoreca.gov/digital-library/books-more/book-clubs" target="_self">More Book Clubs</a></p>
X-ALT-DESC;FMTTYPE=text/html:<p>For the March meeting, the group will read “<a href="https://livermorelibrary.bibliocommons.com/v2/record/S175C1020018">Death on the Nile</a>” by Agatha Christie. Join the discussion on Thursday, March 19 at 2 p.m. in Community Room B, Civic Center Library, 1188 S. Livermore Ave. Please note the change in meeting location for this meeting. Registration is not required to attend the meeting.</p><p>Book summary: Linnet Ridgeway is young, beautiful, smart, and rich. On her honeymoon cruise up the Nile in Egypt, tensions mount. Several of the passengers are harboring dark secrets, and before long a murder is discovered — but the obvious suspect can’t possibly be guilty. Another death soon follows. Fortunately, Hercule Poirot is on hand to sort through the bewildering clues. Was it the pompous German doctor? The New York financier? The offensive young communist? And who stole Linnet’s priceless pearl necklace? This is one of Christie’s cleverest and most perplexing mysteries!</p><p><a href="https://library.livermoreca.gov/digital-library/books-more/book-clubs" target="_self">More Book Clubs</a></p>
LOCATION:Civic Center Library Community Room B\, 1188 S. Livermore Ave. Livermore\, California 94550
CLASS:PUBLIC
END:VEVENT
END:VCALENDAR
