BEGIN:VCALENDAR
VERSION:2.0
PRODID:City of Livermore website Calendar Creator
METHOD:PUBLISH
BEGIN:VEVENT
DTSTAMP:20260205T200322
DTSTART:20260219T180000
DTEND:20260219T190000
SUMMARY:Tri Valley for Black Lives Trivia Night
DESCRIPTION:<p><a href="https://www.tv4bl.org/" target="_blank" rel="noopener">Tri Valley for Black Lives</a> returns to&nbsp;<a href="https://library.livermoreca.gov/about-us/locations-hours-holidays/civic-center" target="_self">Civic Center Library</a> for a night of trivia in celebration of <a href="https://library.livermoreca.gov/?splash=https%3a%2f%2fwww.blackhistorymonth.gov%2fAbout.html&amp;____isexternal=true" target="_blank" rel="noopener">Black History Month</a>! Stop by and play for a chance to win prizes, sponsored by the <a href="https://www.friendsoflivermorelibrary.org/" target="_blank" rel="noopener">Friends of the Livermore Library</a>. This is a family-friendly event, and no registration is required.</p><p>Trivia Night is&nbsp;part of our&nbsp;<a href="https://library.livermoreca.gov/?splash=https%3a%2f%2fwww.blackhistorymonth.gov%2fAbout.html&amp;____isexternal=true" target="_blank" rel="noopener">Black History Month</a>&nbsp;event programming happening through February 28, 2026. Celebrate the history and cultural impact of Black Americans. All are invited to attend the&nbsp;<a href="https://library.livermoreca.gov/Home/Components/News/News/1471/3895" target="_blank" rel="noopener">free events</a>&nbsp;and utilize the offered resources and services to learn more about this nationally celebrated month.</p><p>Thanks to the support of the&nbsp;<a href="https://www.friendsoflivermorelibrary.org/" target="_blank" rel="noopener">Friends of the Livermore Public Library</a>, all&nbsp;<a href="https://library.livermoreca.gov/?splash=https%3a%2f%2fwww.blackhistorymonth.gov%2fAbout.html&amp;____isexternal=true" target="_blank" rel="noopener">Black History Month</a>&nbsp;events are free and open to the public. For more information, please call 925-373-5505.</p>
X-ALT-DESC;FMTTYPE=text/html:<p><a href="https://www.tv4bl.org/" target="_blank" rel="noopener">Tri Valley for Black Lives</a> returns to&nbsp;<a href="https://library.livermoreca.gov/about-us/locations-hours-holidays/civic-center" target="_self">Civic Center Library</a> for a night of trivia in celebration of <a href="https://library.livermoreca.gov/?splash=https%3a%2f%2fwww.blackhistorymonth.gov%2fAbout.html&amp;____isexternal=true" target="_blank" rel="noopener">Black History Month</a>! Stop by and play for a chance to win prizes, sponsored by the <a href="https://www.friendsoflivermorelibrary.org/" target="_blank" rel="noopener">Friends of the Livermore Library</a>. This is a family-friendly event, and no registration is required.</p><p>Trivia Night is&nbsp;part of our&nbsp;<a href="https://library.livermoreca.gov/?splash=https%3a%2f%2fwww.blackhistorymonth.gov%2fAbout.html&amp;____isexternal=true" target="_blank" rel="noopener">Black History Month</a>&nbsp;event programming happening through February 28, 2026. Celebrate the history and cultural impact of Black Americans. All are invited to attend the&nbsp;<a href="https://library.livermoreca.gov/Home/Components/News/News/1471/3895" target="_blank" rel="noopener">free events</a>&nbsp;and utilize the offered resources and services to learn more about this nationally celebrated month.</p><p>Thanks to the support of the&nbsp;<a href="https://www.friendsoflivermorelibrary.org/" target="_blank" rel="noopener">Friends of the Livermore Public Library</a>, all&nbsp;<a href="https://library.livermoreca.gov/?splash=https%3a%2f%2fwww.blackhistorymonth.gov%2fAbout.html&amp;____isexternal=true" target="_blank" rel="noopener">Black History Month</a>&nbsp;events are free and open to the public. For more information, please call 925-373-5505.</p>
LOCATION:Civic Center Library Storytime Room\, 1188 S. Livermore Ave. Livermore\, California 94550
CLASS:PUBLIC
END:VEVENT
END:VCALENDAR
