BEGIN:VCALENDAR
VERSION:2.0
PRODID:City of Livermore website Calendar Creator
METHOD:PUBLISH
BEGIN:VEVENT
DTSTAMP:20260107T144226
DTSTART:20260305T160000
DTEND:20260305T170000
SUMMARY:Maker Madness (Ages 8-12)
DESCRIPTION:<p>Maker Madness<br>For Ages 8-12<br>Thursdays, 4 p.m.<br>Civic Center Library, Storytime Room<br>Hang out, have fun, and use your creativity.&nbsp; Free snacks.&nbsp; No registration required.&nbsp;</p><p>Mar 5: Cowpoke Treats<br>Mar 12: T-shirt Tote Bags</p>
X-ALT-DESC;FMTTYPE=text/html:<p>Maker Madness<br>For Ages 8-12<br>Thursdays, 4 p.m.<br>Civic Center Library, Storytime Room<br>Hang out, have fun, and use your creativity.&nbsp; Free snacks.&nbsp; No registration required.&nbsp;</p><p>Mar 5: Cowpoke Treats<br>Mar 12: T-shirt Tote Bags</p>
LOCATION:Civic Center Library Storytime Room\, 1188 S. Livermore Ave. Livermore\, California 94550
CLASS:PUBLIC
END:VEVENT
END:VCALENDAR
