BEGIN:VCALENDAR
VERSION:2.0
PRODID:City of Livermore website Calendar Creator
METHOD:PUBLISH
BEGIN:VEVENT
DTSTAMP:20251223T183947
DTSTART:20260113T160000
DTEND:20260113T170000
SUMMARY:Dinosaur Egg Craft
DESCRIPTION:<p>Come to the Springtown Library to learn fun facts about dinosaurs while you paint your very own dinosaur egg. Each egg contains a mini dinosaur toy. After the paint is dry, crack open the egg to reveal which dinosaur hatches out. Free, while supplies last.</p>
X-ALT-DESC;FMTTYPE=text/html:<p>Come to the Springtown Library to learn fun facts about dinosaurs while you paint your very own dinosaur egg. Each egg contains a mini dinosaur toy. After the paint is dry, crack open the egg to reveal which dinosaur hatches out. Free, while supplies last.</p>
LOCATION:Springtown Library\, 998 Bluebell Dr Livermore\, California 94551
CLASS:PUBLIC
END:VEVENT
END:VCALENDAR
