BEGIN:VCALENDAR
VERSION:2.0
PRODID:City of Livermore website Calendar Creator
METHOD:PUBLISH
BEGIN:VEVENT
DTSTAMP:20251120T082829
DTSTART:20251215T180000
DTEND:20251215T193000
SUMMARY:Livermore Vision Zero Community Meeting
DESCRIPTION:<ul>    <li>Location: Zoom</li>    <li>Time: 6:00 PM - 7:30 PM PST</li>    <li>Details:    <ul>        <li>Join Zoom meeting via this link:&nbsp;<a href="https://www.livermoreca.gov/?splash=https%3a%2f%2fus06web.zoom.us%2fj%2f84886403511%3fpwd%3dpfhskrpSINPaaNGMVW5pvVaYCTFhbR.1&amp;____isexternal=true" tabindex="0">https://us06web.zoom.us/j/84886403511?pwd=pfhskrpSINPaaNGMVW5pvVaYCTFhbR.1</a>        <ul>            <li>Meeting ID:&nbsp;848 8640 3511</li>            <li>Passcode: 180673</li>            <li>Join by phone: +16694449171,,84886403511#,,,,*180673# (US)</li>        </ul>        </li>    </ul>    </li></ul>
X-ALT-DESC;FMTTYPE=text/html:<ul>    <li>Location: Zoom</li>    <li>Time: 6:00 PM - 7:30 PM PST</li>    <li>Details:    <ul>        <li>Join Zoom meeting via this link:&nbsp;<a href="https://www.livermoreca.gov/?splash=https%3a%2f%2fus06web.zoom.us%2fj%2f84886403511%3fpwd%3dpfhskrpSINPaaNGMVW5pvVaYCTFhbR.1&amp;____isexternal=true" tabindex="0">https://us06web.zoom.us/j/84886403511?pwd=pfhskrpSINPaaNGMVW5pvVaYCTFhbR.1</a>        <ul>            <li>Meeting ID:&nbsp;848 8640 3511</li>            <li>Passcode: 180673</li>            <li>Join by phone: +16694449171,,84886403511#,,,,*180673# (US)</li>        </ul>        </li>    </ul>    </li></ul>
LOCATION:
CLASS:PUBLIC
END:VEVENT
END:VCALENDAR
