BEGIN:VCALENDAR
VERSION:2.0
PRODID:City of Livermore website Calendar Creator
METHOD:PUBLISH
BEGIN:VEVENT
DTSTAMP:20251119T153833
DTSTART:20251201T170000
DTEND:20251201T200000
SUMMARY:Exam Cram
DESCRIPTION:<p>Teens, need a place to cram for finals?&nbsp; Stop by Civic Center Library!&nbsp; Snacks and refreshments provided while supplies last.&nbsp; For teens grades 6-12.</p>
X-ALT-DESC;FMTTYPE=text/html:<p>Teens, need a place to cram for finals?&nbsp; Stop by Civic Center Library!&nbsp; Snacks and refreshments provided while supplies last.&nbsp; For teens grades 6-12.</p>
LOCATION:Civic Center Library Storytime Rm & Community Rms\, 1188 S. Livermore Ave. Livermore\, California 94550
CLASS:PUBLIC
END:VEVENT
END:VCALENDAR
