BEGIN:VCALENDAR
VERSION:2.0
PRODID:City of Livermore website Calendar Creator
METHOD:PUBLISH
BEGIN:VEVENT
DTSTAMP:20251118T140452
DTSTART:20251128T100000
DTEND:20251128T220000
SUMMARY:San Francisco Premium Outlets Black Friday Parking & Shuttle
DESCRIPTION:<div x14z9mp="" xat24cr="" x1lziwak="" x1vvkbs="" x126k92a"=""><div dir="auto">Heading to the San Francisco Premium Outlets for Black Friday?</div><p dir="auto">&nbsp;</p></div><div xat24cr="" x1lziwak="" x1vvkbs="" xtlvy1s="" x126k92a"=""><div dir="auto"><a tabindex="-1" xdj266r="" x14z9mp="" xat24cr="" x1lziwak="" xexx8yu="" xyri2b="" x18d9i69="" x1c1uobl="" x1hl2dhg="" x16tdsg8="" x1vvkbs"=""></a>Additional off-site parking and FREE shuttle service will be available Friday, Nov. 28 through Sunday, Nov. 30 for Black Friday shopping at the San Francisco Premium Outlets. Spaces are limited, so don’t forget to plan ahead!</div><p dir="auto">&nbsp;</p></div><div xat24cr="" x1lziwak="" x1vvkbs="" xtlvy1s="" x126k92a"=""><div dir="auto"> Off-Site Parking Location:</div><div dir="auto">Las Positas College</div><div dir="auto">3000 Campus Hill Dr, Livermore, CA 94551</div><div dir="auto">Parking available in Designated Lots D &amp; E (clearly marked)</div><p dir="auto">&nbsp;</p></div><div xat24cr="" x1lziwak="" x1vvkbs="" xtlvy1s="" x126k92a"=""><div dir="auto"> Shuttle Pick-Up/Drop-Off:</div><div dir="auto">Between Lots C and D off Campus Hill Dr.</div><p dir="auto">&nbsp;</p></div><div xat24cr="" x1lziwak="" x1vvkbs="" xtlvy1s="" x126k92a"=""><div dir="auto">Outlet Extended Hours:</div><div dir="auto">Friday, 11/28: 10 a.m. – 10 p.m.</div><div dir="auto">Saturday, 11/29: 10 a.m. – 10 p.m.</div><div dir="auto">Sunday, 11/30: 10 a.m. – 8 p.m.</div><p dir="auto">&nbsp;</p></div><div xat24cr="" x1lziwak="" x1vvkbs="" xtlvy1s="" x126k92a"=""><div dir="auto">Last Shuttle Pick-Up:</div><div dir="auto">30 minutes after mall closing each day</div><div dir="auto">(9:30 p.m. Fri/Sat and 7:30 p.m. Sun)</div><p dir="auto">&nbsp;</p></div><div xat24cr="" x1lziwak="" x1vvkbs="" xtlvy1s="" x126k92a"=""><div dir="auto">The Outlets will be closed on Thursday, Nov. 27 for the holiday.</div><p dir="auto"></p><p dir="auto"><span style="font-size: 1.25rem;"></span></p></div>
X-ALT-DESC;FMTTYPE=text/html:<div x14z9mp="" xat24cr="" x1lziwak="" x1vvkbs="" x126k92a"=""><div dir="auto">Heading to the San Francisco Premium Outlets for Black Friday?</div><p dir="auto">&nbsp;</p></div><div xat24cr="" x1lziwak="" x1vvkbs="" xtlvy1s="" x126k92a"=""><div dir="auto"><a tabindex="-1" xdj266r="" x14z9mp="" xat24cr="" x1lziwak="" xexx8yu="" xyri2b="" x18d9i69="" x1c1uobl="" x1hl2dhg="" x16tdsg8="" x1vvkbs"=""></a>Additional off-site parking and FREE shuttle service will be available Friday, Nov. 28 through Sunday, Nov. 30 for Black Friday shopping at the San Francisco Premium Outlets. Spaces are limited, so don’t forget to plan ahead!</div><p dir="auto">&nbsp;</p></div><div xat24cr="" x1lziwak="" x1vvkbs="" xtlvy1s="" x126k92a"=""><div dir="auto"> Off-Site Parking Location:</div><div dir="auto">Las Positas College</div><div dir="auto">3000 Campus Hill Dr, Livermore, CA 94551</div><div dir="auto">Parking available in Designated Lots D &amp; E (clearly marked)</div><p dir="auto">&nbsp;</p></div><div xat24cr="" x1lziwak="" x1vvkbs="" xtlvy1s="" x126k92a"=""><div dir="auto"> Shuttle Pick-Up/Drop-Off:</div><div dir="auto">Between Lots C and D off Campus Hill Dr.</div><p dir="auto">&nbsp;</p></div><div xat24cr="" x1lziwak="" x1vvkbs="" xtlvy1s="" x126k92a"=""><div dir="auto">Outlet Extended Hours:</div><div dir="auto">Friday, 11/28: 10 a.m. – 10 p.m.</div><div dir="auto">Saturday, 11/29: 10 a.m. – 10 p.m.</div><div dir="auto">Sunday, 11/30: 10 a.m. – 8 p.m.</div><p dir="auto">&nbsp;</p></div><div xat24cr="" x1lziwak="" x1vvkbs="" xtlvy1s="" x126k92a"=""><div dir="auto">Last Shuttle Pick-Up:</div><div dir="auto">30 minutes after mall closing each day</div><div dir="auto">(9:30 p.m. Fri/Sat and 7:30 p.m. Sun)</div><p dir="auto">&nbsp;</p></div><div xat24cr="" x1lziwak="" x1vvkbs="" xtlvy1s="" x126k92a"=""><div dir="auto">The Outlets will be closed on Thursday, Nov. 27 for the holiday.</div><p dir="auto"></p><p dir="auto"><span style="font-size: 1.25rem;"></span></p></div>
LOCATION:
CLASS:PUBLIC
END:VEVENT
END:VCALENDAR
