BEGIN:VCALENDAR
VERSION:2.0
PRODID:City of Livermore website Calendar Creator
METHOD:PUBLISH
BEGIN:VEVENT
DTSTAMP:20251114T160326
DTSTART:20251215T173000
DTEND:20251215T182500
SUMMARY:Teen Craft: Mini Bookshelf
DESCRIPTION:<p>Unleash your creativity and love of books to make a miniature bookshelf. All materials provided. <b>For Teens only.</b></p><p>Call 925-373-5540 for more information.</p>
X-ALT-DESC;FMTTYPE=text/html:<p>Unleash your creativity and love of books to make a miniature bookshelf. All materials provided. <b>For Teens only.</b></p><p>Call 925-373-5540 for more information.</p>
LOCATION:Rincon Library\, 725 Rincon Avenue Livermore\, California 94551
CLASS:PUBLIC
END:VEVENT
END:VCALENDAR
