BEGIN:VCALENDAR
VERSION:2.0
PRODID:City of Livermore website Calendar Creator
METHOD:PUBLISH
BEGIN:VEVENT
DTSTAMP:20251107T105220
DTSTART:20251111T000000
DTEND:20251111T235900
SUMMARY:City Offices Closed - Veterans Day
DESCRIPTION:City offices closed for the Veterans Day holiday.
X-ALT-DESC;FMTTYPE=text/html:City offices closed for the Veterans Day holiday.
LOCATION:
CLASS:PUBLIC
END:VEVENT
END:VCALENDAR
