BEGIN:VCALENDAR
VERSION:2.0
PRODID:City of Livermore website Calendar Creator
METHOD:PUBLISH
BEGIN:VEVENT
DTSTAMP:20251104T161457
DTSTART:20251107T153000
DTEND:20251107T163000
SUMMARY:First Fridays with EBRPD
DESCRIPTION:<p></p><div x14z9mp="" xat24cr="" x1lziwak="" x1vvkbs="" x126k92a"=""><div dir="auto">We're teaming up with <a href="https://www.ebparks.org/" target="_blank" rel="noopener">East Bay Regional Park District</a> for First Fridays at Civic Center Library. A naturalist from <a href="https://www.ebparks.org/parks/del-valle" target="_blank" rel="noopener">Del Valle Regional Park</a> will educate children on how animals adapt to survive during the colder months.</div><div  dir="auto">🍂 Nov. 7: Mysteries of Migration - Incredible Journeys.<br>❄️ Dec. 5: Skills for Chills - How Animals Stay Warm.<br>Both events are at 3:30 p.m. in the Civic Center Library Storytime Room.</div><div dir="auto">&nbsp;</div><div dir="auto">Registration is not required for these free events.</div></div><p>&nbsp;</p>
X-ALT-DESC;FMTTYPE=text/html:<p></p><div x14z9mp="" xat24cr="" x1lziwak="" x1vvkbs="" x126k92a"=""><div dir="auto">We're teaming up with <a href="https://www.ebparks.org/" target="_blank" rel="noopener">East Bay Regional Park District</a> for First Fridays at Civic Center Library. A naturalist from <a href="https://www.ebparks.org/parks/del-valle" target="_blank" rel="noopener">Del Valle Regional Park</a> will educate children on how animals adapt to survive during the colder months.</div><div  dir="auto">🍂 Nov. 7: Mysteries of Migration - Incredible Journeys.<br>❄️ Dec. 5: Skills for Chills - How Animals Stay Warm.<br>Both events are at 3:30 p.m. in the Civic Center Library Storytime Room.</div><div dir="auto">&nbsp;</div><div dir="auto">Registration is not required for these free events.</div></div><p>&nbsp;</p>
LOCATION:Civic Center Library Storytime Room\, 1188 S. Livermore Ave. Livermore\, California 94550
CLASS:PUBLIC
END:VEVENT
END:VCALENDAR
