BEGIN:VCALENDAR
VERSION:2.0
PRODID:City of Livermore website Calendar Creator
METHOD:PUBLISH
BEGIN:VEVENT
DTSTAMP:20251020T182220
DTSTART:20251106T190000
DTEND:20251106T210000
SUMMARY:We're Talkin' Books! Club hybrid meeting
DESCRIPTION:<p><i><a href="https://livermorelibrary.bibliocommons.com/v2/search?query=Knife%3A%20Meditations%20After%20an%20Attempted%20Murder" target="_self"><strong>Knife: Meditations After an Attempted Murder</strong></a> </i><strong>by Salman Rushdie</strong> is the November book for the We’re Talkin’ Books! Club. Join in person at the Civic Center Library in the Board Room or via Zoom at <a href="http://tinyurl.com/wtbclpl">http://tinyurl.com/wtbclpl</a> on Thursday, Nov. 6 at 7 p.m.</p><p>Book Summary: “On the morning of August 12, 2022, Salman Rushdie was standing onstage at the Chautauqua Institution, preparing to give a lecture on the importance of keeping writers safe from harm, when a man in black—black clothes, black mask—rushed down the aisle toward him, wielding a knife. His first thought:&nbsp;<i>So it’s you. Here you are.<br></i><br>What followed was a horrific act of violence that shook the literary world and beyond. Now, for the first time, and in unforgettable detail, Rushdie relives the traumatic events of that day and its aftermath, as well as his journey toward physical recovery and the healing that was made possible by the love and support of his wife, Eliza, his family, his army of doctors and physical therapists, and his community of readers worldwide.<br><br><i>Knife</i>&nbsp;is Rushdie at the peak of his powers, writing with urgency, with gravity, with unflinching honesty. It is also a deeply moving reminder of literature’s capacity to make sense of the unthinkable, an intimate and life-affirming meditation on life, loss, love, art—and finding the strength to stand up again.”–the publisher</p><p><a href="http://library.livermoreca.gov/digital-library/books-more/book-clubs" target="_self">Book Clubs at the Livermore Public Library</a></p>
X-ALT-DESC;FMTTYPE=text/html:<p><i><a href="https://livermorelibrary.bibliocommons.com/v2/search?query=Knife%3A%20Meditations%20After%20an%20Attempted%20Murder" target="_self"><strong>Knife: Meditations After an Attempted Murder</strong></a> </i><strong>by Salman Rushdie</strong> is the November book for the We’re Talkin’ Books! Club. Join in person at the Civic Center Library in the Board Room or via Zoom at <a href="http://tinyurl.com/wtbclpl">http://tinyurl.com/wtbclpl</a> on Thursday, Nov. 6 at 7 p.m.</p><p>Book Summary: “On the morning of August 12, 2022, Salman Rushdie was standing onstage at the Chautauqua Institution, preparing to give a lecture on the importance of keeping writers safe from harm, when a man in black—black clothes, black mask—rushed down the aisle toward him, wielding a knife. His first thought:&nbsp;<i>So it’s you. Here you are.<br></i><br>What followed was a horrific act of violence that shook the literary world and beyond. Now, for the first time, and in unforgettable detail, Rushdie relives the traumatic events of that day and its aftermath, as well as his journey toward physical recovery and the healing that was made possible by the love and support of his wife, Eliza, his family, his army of doctors and physical therapists, and his community of readers worldwide.<br><br><i>Knife</i>&nbsp;is Rushdie at the peak of his powers, writing with urgency, with gravity, with unflinching honesty. It is also a deeply moving reminder of literature’s capacity to make sense of the unthinkable, an intimate and life-affirming meditation on life, loss, love, art—and finding the strength to stand up again.”–the publisher</p><p><a href="http://library.livermoreca.gov/digital-library/books-more/book-clubs" target="_self">Book Clubs at the Livermore Public Library</a></p>
LOCATION:Zoom & Civic Center Library Board Room\, 1188 S. Livermore Ave. Livermore\, California 94550
CLASS:PUBLIC
END:VEVENT
END:VCALENDAR
