BEGIN:VCALENDAR
VERSION:2.0
PRODID:City of Livermore website Calendar Creator
METHOD:PUBLISH
BEGIN:VEVENT
DTSTAMP:20251007T131909
DTSTART:20251016T000000
DTEND:20251016T235900
SUMMARY:Do a Random Act of Kindness
DESCRIPTION:<p>Surprise a friend, neighbor, or stranger with an unexpected gesture of kindness to spread positivity and build unity in our community.</p><p>The Livermore Public Library and&nbsp;<a href="https://www.livermoreca.gov/home" target="_self">City of Livermore</a>&nbsp;are celebrating Unity Week,&nbsp;Oct. 13-17, with&nbsp;<a href="https://www.livermoreschools.org/" target="_blank">LVJUSD</a>&nbsp;and&nbsp;<a href="https://www.larpd.org/" target="_blank">LARPD</a>, and we hope you join in on the activities. In recognition of National Bullying Prevention and Awareness Month.</p>
X-ALT-DESC;FMTTYPE=text/html:<p>Surprise a friend, neighbor, or stranger with an unexpected gesture of kindness to spread positivity and build unity in our community.</p><p>The Livermore Public Library and&nbsp;<a href="https://www.livermoreca.gov/home" target="_self">City of Livermore</a>&nbsp;are celebrating Unity Week,&nbsp;Oct. 13-17, with&nbsp;<a href="https://www.livermoreschools.org/" target="_blank">LVJUSD</a>&nbsp;and&nbsp;<a href="https://www.larpd.org/" target="_blank">LARPD</a>, and we hope you join in on the activities. In recognition of National Bullying Prevention and Awareness Month.</p>
LOCATION:
CLASS:PUBLIC
END:VEVENT
END:VCALENDAR
