BEGIN:VCALENDAR
VERSION:2.0
PRODID:City of Livermore website Calendar Creator
METHOD:PUBLISH
BEGIN:VEVENT
DTSTAMP:20250819T135656
DTSTART:20251215T190000
DTEND:20251215T210000
SUMMARY:Fiber Friends
DESCRIPTION:On the third Monday of the month, at 7 p.m., Livermore Public Library will host Fiber Friends at the Civic Center Library, Storytime Room. Participants are encouraged to chat with fellow crafters and work on their craft project, knitting, sewing, crochet, cross-stitch, etc. Fiber Friends is geared towards adults. &nbsp;<br>
X-ALT-DESC;FMTTYPE=text/html:On the third Monday of the month, at 7 p.m., Livermore Public Library will host Fiber Friends at the Civic Center Library, Storytime Room. Participants are encouraged to chat with fellow crafters and work on their craft project, knitting, sewing, crochet, cross-stitch, etc. Fiber Friends is geared towards adults. &nbsp;<br>
LOCATION:Civic Center Library Storytime Room\, 1188 S. Livermore Ave. Livermore\, California 94550
CLASS:PUBLIC
END:VEVENT
END:VCALENDAR
