BEGIN:VCALENDAR
VERSION:2.0
PRODID:City of Livermore website Calendar Creator
METHOD:PUBLISH
BEGIN:VEVENT
DTSTAMP:20250924T121759
DTSTART:20251213T101500
DTEND:20251213T111500
SUMMARY:Sign Language: Stories and Songs
DESCRIPTION:<p>Everyone is welcome at this American Sign Language (ASL) storytelling and music experience! A Black Deaf woman shares her favorite books in ASL and artistic performance. The audience will be invited to learn ASL handshapes and vocabulary. Immediately following the performance will be a craft activity. Presented in ASL with English interpretation.</p>
X-ALT-DESC;FMTTYPE=text/html:<p>Everyone is welcome at this American Sign Language (ASL) storytelling and music experience! A Black Deaf woman shares her favorite books in ASL and artistic performance. The audience will be invited to learn ASL handshapes and vocabulary. Immediately following the performance will be a craft activity. Presented in ASL with English interpretation.</p>
LOCATION:Civic Center Library Storytime Room\, 1188 S. Livermore Ave. Livermore\, California 94550
CLASS:PUBLIC
END:VEVENT
END:VCALENDAR
